BEGIN:VCALENDAR
VERSION:2.0
PRODID:-//Madeni Yağ Dünyası | Lubricant World - ECPv6.15.16//NONSGML v1.0//EN
CALSCALE:GREGORIAN
METHOD:PUBLISH
X-WR-CALNAME:Madeni Yağ Dünyası | Lubricant World
X-ORIGINAL-URL:https://lubricant-world.com
X-WR-CALDESC:Madeni Yağ Dünyası | Lubricant World için etkinlikler
REFRESH-INTERVAL;VALUE=DURATION:PT1H
X-Robots-Tag:noindex
X-PUBLISHED-TTL:PT1H
BEGIN:VTIMEZONE
TZID:Europe/Moscow
BEGIN:STANDARD
TZOFFSETFROM:+0300
TZOFFSETTO:+0300
TZNAME:MSK
DTSTART:20240101T000000
END:STANDARD
END:VTIMEZONE
BEGIN:VEVENT
DTSTART;TZID=Europe/Moscow:20251126T100000
DTEND;TZID=Europe/Moscow:20251126T100000
DTSTAMP:20260420T194340
CREATED:20251103T073138Z
LAST-MODIFIED:20251103T073403Z
UID:19484-1764151200-1764151200@lubricant-world.com
SUMMARY:2025/1851758 Mamak Belediyesi Motorin\, Kurşunsuz Benzin (95 oktan)\, Madeni Yağ
DESCRIPTION:İlan Tarihi: 28.10.2025\nAKARYAKIT VE MADENİ YAĞ SATIN ALINACAKTIR\nMamak Belediyemiz bünyesinde hizmet veren taşıt ve iş makinalarında 2026 yılı içerisinde kullanılmak üzere Motorin\, Kurşunsuz Benzin ( 95 oktan ) Madeni Yağ mal alımı 4734 sayılı Kamu İhale Kanununun 19 uncu maddesine göre açık ihale usulü ile ihale edilecektir.\nİhaleye ilişkin ayrıntılı bilgiler aşağıda yer almaktadır: \n\n\n\nİhale Kayıt Numarası (İKN)\n:\n2025/1851758\n\n\n\n\n\n\n1- İdarenin\n\n\n1.1. Adı\n:\nMAMAK BELEDİYE BAŞKANLIĞI\n\n\n1.2. Adresi\n:\nMamak Cad.Hüseyingazi Mah.No:181 Mamak Belediye Başkanlığı Makine İkmal Bakım ve Onarım Müdürlüğü MAMAK/ANKARA\n\n\n1.3. Telefon numarası\n:\n3123727164\n\n\n1.4. İhale dokümanının görülebileceği ve indirilebileceği internet sayfası\n:\nhttps://ekap.kik.gov.tr/EKAP/\n\n\n\n2- İhalenin \n\n\n\n2.1. Tarih ve Saati\n:\n26.11.2025 – 10:00\n\n\n2.2. Yapılacağı (e-tekliflerin açılacağı) adres\n:\nMamak Belediyesi Makine İkmal Bakım ve Onarım Müdürlüğü\n\n\n\n3- İhale konusu mal alımının \n\n\n\n3.1. Adı\n:\nMamak Belediyemiz bünyesinde hizmet veren taşıt ve iş makinalarında 2026 yılı içerisinde kullanılmak üzere Motorin\, Kurşunsuz Benzin ( 95 oktan ) Madeni Yağ\n\n\n3.2. Niteliği\, türü ve miktarı\n:\n\n1. Motorin 2.000.000 Litre 3. Kurşunsuz Benzin ( 95 Oktan ) 30.000 Litre 4-17.400 Litre Madeni Yağ 5-1.400 Kg Gres\nAyrıntılı bilgiye EKAP’ta yer alan ihale dokümanı içinde bulunan idari şartnameden ulaşılabilir.\n\n\n\n3.3. Yapılacağı/teslim edileceği yer\n:\nMamak Belediyesi Makine İkmal Bakım ve Onarım Müdürlüğü Akaryakıt İstasyonu Yeşilbayır Mamak / ANKARA\n\n\n3.4. Süresi/teslim tarihi\n:\nSözleşme imzalanmasına müteakip\, 01.01.2026-31.12.2026 tarihleri arasında İdarenin öngördüğü program dahilinde alımlar yapılacaktır.\n\n\n3.5. İşe başlama tarihi\n:\nSözleşme tarihi işe başlama tarihidir.\n\n\n\n4- Katılım ve yeterlik kriterleri:\n4.1. Katılım ve yeterlik kriterlerine ilişkin istekliler tarafından e-teklif kapsamında sunulması gereken bilgi ve belgeler ile fiyat dışı unsurlara ilişkin bilgi ve belgelere aşağıda yer verilmiştir:\n4.1.1. Teklif mektubu.\n4.1.2. Teklif vermeye yetkili olunduğunu gösteren bilgi ve belgeler:\n4.1.2.1. Tüzel kişilerde; isteklilerin yönetimindeki görevliler ile ilgisine göre\, ortaklar ve ortaklık oranlarına (halka arz edilen hisseler hariç)/üyelerine/kurucularına ilişkin bilgi ve belgeler.\n4.1.2.2. Vekâleten ihaleye katılma halinde vekile ilişkin bilgi ve belgeler.\n4.1.3. Geçici teminat.\n4.1.4 İsteklinin iş ortaklığı olması halinde iş ortaklığı beyannamesi.\n4.1.5. Yerli malı teklif edenler lehine fiyat avantajından yararlanmak isteyen istekliler tarafından sunulacak yerli malı belgesi \n\n\n\n4.2. Ekonomik ve mali yeterliğe ilişkin bilgi ve belgeler ile bunların taşıması gereken kriterler:\n\n\nEkonomik ve mali yeterliğe ilişkin bilgi\, belge veya kriter belirtilmemiştir.\n\n\n\n  \n\n\n\n4.3. Mesleki ve teknik yeterliğe ilişkin bilgi ve belgeler ile bunların taşıması gereken kriterler:\n\n\n4.3.1. Son beş yıl içinde bedel içeren bir sözleşme kapsamında kesin kabul işlemleri tamamlanan ve teklif edilen bedelin % 25 oranından az olmamak üzere ihale konusu iş veya benzer işlere ilişkin iş deneyimini gösteren belgelere veya teknolojik ürün deneyim belgesine ait bilgiler.\n4.3.1.1. Tüzel kişi tarafından iş deneyimini göstermek üzere kullanılan belgenin\, tüzel kişiliğin yarısından fazla hissesine sahip ve 4734 sayılı Kanuna göre yapılacak ihalelere ilişkin sözleşmelerin yürütülmesi konusunda temsile ve yönetime yetkili olan ortağına ait olması halinde\, ticaret ve sanayi odası/ticaret odası bünyesinde bulunan ticaret sicili müdürlükleri veya yeminli mali müşavir ya da serbest muhasebeci mali müşavir tarafından ilk ilan tarihinden sonra düzenlenen ve düzenlendiği tarihten geriye doğru son bir yıldır kesintisiz olarak bu şartların korunduğunu gösteren\, e-forma uygun belgenin kullanılması zorunludur.4.3.1.2. 4734 sayılı Kanun kapsamındaki idarelere taahhüt edilenler dışında yurt dışında gerçekleştirilen işlerden elde edilen iş deneyiminin 13/1/2011 tarihli ve 6102 sayılı Türk Ticaret Kanununun 195 inci maddesinin ikinci fıkrası gereğince pay çoğunluğuna dayanarak kurulan şirketler topluluğu ilişkisi içinde kullanılması halinde bu hukuki ilişkiyi ve bu ilişkinin süresini tevsik eden belgelerin sunulması zorunludur.\n\n\n4.3.2 İhale konusu işin ya da malın satış faaliyetinin yerine getirilebilmesi için ilgili mevzuat gereğince sicil\, izin\, ruhsat\, faaliyet belgesi vb. belgeler:\n\n\n\nİş Yeri Açma ve Çalıştırma Ruhsatı\nPetrol Bayiliği/Dağıtıcılığı Lisans Belgesi\n\n\n\n\n4.3.3. İstekli tarafından teklifi kapsamında ihaleye katılım belgesine aktarılarak sunulması ve/veya sağlanması gerektiği bu Şartnamenin 7 nci maddesi dışındaki maddeleri ile teknik şartnamede belirtilen aşağıdaki belgeler ve/veya yeterlik kriterleri:\n\n\n\nAkaryakıt ve Dağıtım Pazarlama Kuruluşu olduğunu gösteren belge\,\nİş Yeri Açma ve Çalışma Ruhsatı\n\n\n\n\n\n  \n\n\n\n4.4. Bu ihalede benzer iş olarak kabul edilecek işler:\n\n\n4.4.1.Her Türlü Akaryakıt ve Madeni Yağ Ürünleri alımı işleri Benzer İş Olarak Kabul Edilecektir\n\n\n\n5- Ekonomik açıdan en avantajlı teklif sadece fiyat esasına göre belirlenecektir. \n6- İhale yerli ve yabancı tüm isteklilere açık olup yerli malı teklif eden istekliye ihalenin tamamında % 1 (yüzde bir) oranında fiyat avantajı uygulanacaktır. \n7- İhaleye teklif verecek olanların\, EKAP hesabına giriş yaparak ihale dokümanını indirmeleri zorunludur. \n8-Teklifler\, EKAP üzerinden teklif mektubu ile ihaleye katılım belgesi ve diğer ekler kullanılarak hazırlanacak ve e-imza ile imzalanarak ihale tarih ve saatine kadar EKAP üzerinden gönderilecektir. \n9- İstekliler tekliflerini\, her bir iş kaleminin miktarı ile bu iş kalemleri için teklif edilen birim fiyatların çarpımı sonucu bulunan toplam bedel üzerinden teklif birim fiyat şeklinde vereceklerdir. İhale sonucunda\, üzerine ihale yapılan istekliyle birim fiyat sözleşme imzalanacaktır. \n10- Bu ihalede\, kısmı teklif verilebilir. \n11- İstekliler teklif ettikleri bedelin %3’ünden az olmamak üzere kendi belirleyecekleri tutarda geçici teminat vereceklerdir. \n12- Bu ihalede elektronik eksiltme yapılmayacaktır. \n13- Verilen tekliflerin geçerlilik süresi\, ihale tarihinden itibaren 60 (Altmış) takvim günüdür. \n14- Konsorsiyum olarak ihaleye teklif verilemez. \n15- Diğer hususlar: \nTeklif fiyatı ihale komisyonu tarafından aşırı düşük olarak tespit edilen isteklilerden Kanunun 38 inci maddesine göre açıklama istenecektir.\n\nİhale dokümanını buradan indirebilirsiniz:\n13367018_IhaleDokumani\n2026_YILI_AKARYAKIT_TEKNİKŞARTNAMESİ\n2026_YILI_MADENİ_YAĞ_TEKNİKŞARTNAMESİ
URL:https://lubricant-world.com/etkinlik/2025-1851758-mamak-belediyesi-motorin-kursunsuz-benzin-95-oktan-madeni-yag/
LOCATION:Amsterdam
CATEGORIES:Madeni Yağ İhaleleri
END:VEVENT
BEGIN:VEVENT
DTSTART;TZID=Europe/Moscow:20251126T103000
DTEND;TZID=Europe/Moscow:20251126T103000
DTSTAMP:20260420T194340
CREATED:20251110T072235Z
LAST-MODIFIED:20251110T072235Z
UID:19551-1764153000-1764153000@lubricant-world.com
SUMMARY:2025/1882701 Manisa Büyükşehir Belediyesi Envanterinde Kayıtlı Araç ve İş Makinelerinde Kullanılmak Üzere Madeni Yağ ve Antifriz Alımı
DESCRIPTION:İlan Tarihi: 03.11.2025\nMADENİ YAĞ VE ANTİFRİZ SATIN ALINACAKTIR \nManisa Büyükşehir Belediyesi Envanterinde Kayıtlı Araç ve İş Makinelerinde Kullanılmak Üzere Madeni Yağ ve Antifriz Alımı mal alımı 4734 sayılı Kamu İhale Kanununun 19 uncu maddesine göre açık ihale usulü ile ihale edilecektir.\nİhaleye ilişkin ayrıntılı bilgiler aşağıda yer almaktadır: \n\n\n\nİhale Kayıt Numarası (İKN)\n:\n2025/1882701\n\n\n\n\n\n\n1- İdarenin\n\n\n1.1. Adı\n:\nMANİSA BÜYÜKŞEHİR BELEDİYESİ MAKİNE İKMAL BAKIM VE ONARIM DAİRE BAŞKANLIĞI\n\n\n1.2. Adresi\n:\nLALELİ MAHALLESİ MİMAR SİNAN BULVARI NO:242/A Y.EMRE MANİSA YUNUSEMRE/MANİSA\n\n\n1.3. Telefon numarası\n:\n02362314580\n\n\n1.4. İhale dokümanının görülebileceği ve indirilebileceği internet sayfası\n:\nhttps://ekap.kik.gov.tr/EKAP/\n\n\n\n2- İhalenin \n\n\n\n2.1. Tarih ve Saati\n:\n26.11.2025 – 10:30\n\n\n2.2. Yapılacağı (e-tekliflerin açılacağı) adres\n:\nMANİSA BÜYÜKŞEHİR BELEDİYESİ DESTEK HİZMETLERİ DAİRESİ BAŞK.İHALE İŞLERİ ŞUBE MÜD.7.KAT\n\n\n\n3- İhale konusu mal alımının \n\n\n\n3.1. Adı\n:\nManisa Büyükşehir Belediyesi Envanterinde Kayıtlı Araç ve İş Makinelerinde Kullanılmak Üzere Madeni Yağ ve Antifriz Alımı\n\n\n3.2. Niteliği\, türü ve miktarı\n:\n\nMiktarı: 28 kalem çeşitli miktarlardann oluşan madeni yağ ve antifiriz alımı Türü:Mal alımı\nAyrıntılı bilgiye EKAP’ta yer alan ihale dokümanı içinde bulunan idari şartnameden ulaşılabilir.\n\n\n\n3.3. Yapılacağı/teslim edileceği yer\n:\nMallar Manisa Büyükşehir Belediyesi Makine İkmal Bakım ve Onarım Dairesi Başkanlığı\, İkmal Şube Müdürlüğü\, Yedek Parça Ambarına teslim edilecektir.\n\n\n3.4. Süresi/teslim tarihi\n:\nSözleşme imzalanmasını takip eden 5 takvim günü içinde iş teslimi yapılarak 120 (yüzyirmi) takvim günü içinde malları Özel Teknik Şartnamede yazan niteliklerine uygun şekilde Manisa Büyükşehir Belediyesi Makine ve İkmal Tesisleri Yedek Parça Ambarına teslim edilecektir\n\n\n3.5. İşe başlama tarihi\n:\n5 takvim günü içinde başlayacaktır.\n\n\n\n4- Katılım ve yeterlik kriterleri:\n4.1. Katılım ve yeterlik kriterlerine ilişkin istekliler tarafından e-teklif kapsamında sunulması gereken bilgi ve belgeler ile fiyat dışı unsurlara ilişkin bilgi ve belgelere aşağıda yer verilmiştir:\n4.1.1. Teklif mektubu.\n4.1.2. Teklif vermeye yetkili olunduğunu gösteren bilgi ve belgeler:\n4.1.2.1. Tüzel kişilerde; isteklilerin yönetimindeki görevliler ile ilgisine göre\, ortaklar ve ortaklık oranlarına (halka arz edilen hisseler hariç)/üyelerine/kurucularına ilişkin bilgi ve belgeler.\n4.1.2.2. Vekâleten ihaleye katılma halinde vekile ilişkin bilgi ve belgeler.\n4.1.3. Geçici teminat.\n4.1.4 İsteklinin iş ortaklığı olması halinde iş ortaklığı beyannamesi.\n4.1.5. Yerli malı teklif edenler lehine fiyat avantajından yararlanmak isteyen istekliler tarafından sunulacak yerli malı belgesi \n\n\n\n4.2. Ekonomik ve mali yeterliğe ilişkin bilgi ve belgeler ile bunların taşıması gereken kriterler:\n\n\nEkonomik ve mali yeterliğe ilişkin bilgi\, belge veya kriter belirtilmemiştir.\n\n\n\n  \n\n\n\n4.3. Mesleki ve teknik yeterliğe ilişkin bilgi ve belgeler ile bunların taşıması gereken kriterler:\n\n\nMesleki ve teknik yeterliğe ilişkin bilgi\, belge veya kriter belirtilmemiştir.\n\n\n4.3.1. İstekli tarafından teklifi kapsamında ihaleye katılım belgesine aktarılarak sunulması ve/veya sağlanması gerektiği bu Şartnamenin 7 nci maddesi dışındaki maddeleri ile teknik şartnamede belirtilen aşağıdaki belgeler ve/veya yeterlik kriterleri:\n\n\n\nGüvenlik Bilgi Formu\nMotor Yağlan için TS 12330\, Gres Yağları için TS 11584\, Antifrizler için TS 3582 ve Bor Yağı için TS 13398 güncel ürün belgeleri olması zorunludur\nTeknik Değer Bilgi Formu\nTS EN ISO/IEC 17025 standardına göre akredite edilmiş TÜRKAK onaylı herhangi Laboratuvardan alınmış belgesi\n\n\n\n\n\n5- Ekonomik açıdan en avantajlı teklif sadece fiyat esasına göre belirlenecektir. \n6- İhaleye sadece yerli istekliler katılabilecektir. \n7- İhaleye teklif verecek olanların\, EKAP hesabına giriş yaparak ihale dokümanını indirmeleri zorunludur. \n8-Teklifler\, EKAP üzerinden teklif mektubu ile ihaleye katılım belgesi ve diğer ekler kullanılarak hazırlanacak ve e-imza ile imzalanarak ihale tarih ve saatine kadar EKAP üzerinden gönderilecektir. \n9- İstekliler tekliflerini\, her bir iş kaleminin miktarı ile bu iş kalemleri için teklif edilen birim fiyatların çarpımı sonucu bulunan toplam bedel üzerinden teklif birim fiyat şeklinde vereceklerdir. İhale sonucunda\, üzerine ihale yapılan istekliyle birim fiyat sözleşme imzalanacaktır. \n10- Bu ihalede\, işin tamamı için teklif verilecektir. \n11- İstekliler teklif ettikleri bedelin %3’ünden az olmamak üzere kendi belirleyecekleri tutarda geçici teminat vereceklerdir. \n12- Bu ihalede elektronik eksiltme yapılmayacaktır. \n13- Verilen tekliflerin geçerlilik süresi\, ihale tarihinden itibaren 90 (Doksan) takvim günüdür. \n14- Konsorsiyum olarak ihaleye teklif verilemez. \n15- Diğer hususlar: \n\nTeklif fiyatı ihale komisyonu tarafından aşırı düşük olarak tespit edilen isteklilerden Kanunun 38 inci maddesine göre açıklama istenecektir.\n\nİhale dokümanını buradan indirebilirsiniz:\n13399409_IhaleDokumani\nmadeni_yağ_teknik_şartname
URL:https://lubricant-world.com/etkinlik/2025-1882701-manisa-buyuksehir-belediyesi-envanterinde-kayitli-arac-ve-is-makinelerinde-kullanilmak-uzere-madeni-yag-ve-antifriz-alimi/
LOCATION:Amsterdam
CATEGORIES:Madeni Yağ İhaleleri
END:VEVENT
END:VCALENDAR