BEGIN:VCALENDAR
VERSION:2.0
PRODID:-//Madeni Yağ Dünyası | Lubricant World - ECPv6.15.16//NONSGML v1.0//EN
CALSCALE:GREGORIAN
METHOD:PUBLISH
X-ORIGINAL-URL:https://lubricant-world.com
X-WR-CALDESC:Madeni Yağ Dünyası | Lubricant World için etkinlikler
REFRESH-INTERVAL;VALUE=DURATION:PT1H
X-Robots-Tag:noindex
X-PUBLISHED-TTL:PT1H
BEGIN:VTIMEZONE
TZID:Europe/Moscow
BEGIN:STANDARD
TZOFFSETFROM:+0300
TZOFFSETTO:+0300
TZNAME:MSK
DTSTART:20240101T000000
END:STANDARD
END:VTIMEZONE
BEGIN:VEVENT
DTSTART;TZID=Europe/Moscow:20251226T100000
DTEND;TZID=Europe/Moscow:20251226T100000
DTSTAMP:20260420T182915
CREATED:20251212T071900Z
LAST-MODIFIED:20251212T071900Z
UID:19683-1766743200-1766743200@lubricant-world.com
SUMMARY:2025/2132705 Madeni Yağ ve Antifriz Alımı
DESCRIPTION:İlan Tarihi: 02.12.2025\nMADENİ YAĞ VE ANTİFRİZ SATIN ALINACAKTIR \nMadeni Yağ ve Antifriz Alımı mal alımı 4734 sayılı Kamu İhale Kanununun 19 uncu maddesine göre açık ihale usulü ile ihale edilecektir.\nİhaleye ilişkin ayrıntılı bilgiler aşağıda yer almaktadır: \n\n\n\nİhale Kayıt Numarası (İKN)\n:\n2025/2132705\n\n\n\n\n\n\n1- İdarenin\n\n\n1.1. Adı\n:\nYÜREĞİR BELEDİYESİ DESTEK HİZMETLERİ MÜDÜRLÜĞÜ\n\n\n1.2. Adresi\n:\nYavuzlar Mah. 4071 sokak 4 01220 YÜREĞİR/ADANA\n\n\n1.3. Telefon numarası\n:\n3223217070\n\n\n1.4. İhale dokümanının görülebileceği ve indirilebileceği internet sayfası\n:\nhttps://ekap.kik.gov.tr/EKAP/\n\n\n\n2- İhalenin \n\n\n\n2.1. Tarih ve Saati\n:\n26.12.2025 – 10:00\n\n\n2.2. Yapılacağı (e-tekliflerin açılacağı) adres\n:\nYüreğir Belediyesi Destek Hizmetler Müdürlüğü İhale Birimi\n\n\n\n3- İhale konusu mal alımının \n\n\n\n3.1. Adı\n:\nMadeni Yağ ve Antifriz Alımı\n\n\n3.2. Niteliği\, türü ve miktarı\n:\n\n2 Kısım ve Toplamda 13 kalem Madeni Yağ ve Antifriz Alımı\nAyrıntılı bilgiye EKAP’ta yer alan ihale dokümanı içinde bulunan idari şartnameden ulaşılabilir.\n\n\n\n3.3. Yapılacağı/teslim edileceği yer\n:\nİdaremizin PTT Evleri Mahallesi Yasemin Caddesi No:11 de bulunan Makine İkmal Bakım ve Onarım Müdürlüğü Atölyesi\n\n\n3.4. Süresi/teslim tarihi\n:\nTeslim süresi işe başlama tarihinden itibaren 30 (otuz) takvim günüdür. Ürünler idaremizin PTT Evleri Mahallesi Yasemin Caddesi No:11 Yüreğir/Adana adresinde bulunan Makine İkmal Bakım ve Onarım Müdürlüğü atölyesine teslim edilecektir. Yüklenici teslim konusu ürünlerin nakliyesini\, varil olarak istenilen ürünlerde paletlerin üzerinde (bir palet de 4 adet varil olacak şekilde) teslim mahallinde mesai günleri saat 08:30-16:00 arasında teslim edecektir. Bu saatler dışında verilecek ürünler teslim alınmayacaktır.\n\n\n3.5. İşe başlama tarihi\n:\nsözleşmenin imzalanmasından itibaren 10 (on) gün içinde işe başlanacak\n\n\n\n4- Katılım ve yeterlik kriterleri:\n4.1. Katılım ve yeterlik kriterlerine ilişkin istekliler tarafından e-teklif kapsamında sunulması gereken bilgi ve belgeler ile fiyat dışı unsurlara ilişkin bilgi ve belgelere aşağıda yer verilmiştir:\n4.1.1. Teklif mektubu.\n4.1.2. Teklif vermeye yetkili olunduğunu gösteren bilgi ve belgeler:\n4.1.2.1. Tüzel kişilerde; isteklilerin yönetimindeki görevliler ile ilgisine göre\, ortaklar ve ortaklık oranlarına (halka arz edilen hisseler hariç)/üyelerine/kurucularına ilişkin bilgi ve belgeler.\n4.1.2.2. Vekâleten ihaleye katılma halinde vekile ilişkin bilgi ve belgeler.\n4.1.3. Geçici teminat.\n4.1.4 İsteklinin iş ortaklığı olması halinde iş ortaklığı beyannamesi.\n4.1.5. Yerli malı teklif edenler lehine fiyat avantajından yararlanmak isteyen istekliler tarafından sunulacak yerli malı belgesi \n\n\n\n4.2. Ekonomik ve mali yeterliğe ilişkin bilgi ve belgeler ile bunların taşıması gereken kriterler:\n\n\nEkonomik ve mali yeterliğe ilişkin bilgi\, belge veya kriter belirtilmemiştir.\n\n\n\n  \n\n\n\n4.3. Mesleki ve teknik yeterliğe ilişkin bilgi ve belgeler ile bunların taşıması gereken kriterler:\n\n\nMesleki ve teknik yeterliğe ilişkin bilgi\, belge veya kriter belirtilmemiştir.\n\n\n4.3.1. Yetkili satıcılığı veya imalatçılığı gösteren belgelere ilişkin bilgiler:\n\n\na) İmalatçı ise imalatçı olduğunu gösteren belge veya belgelere ilişkin bilgiler\,\nb) Yetkili satıcı veya yetkili temsilci ise yetkili satıcı ya da yetkili temsilci olduğunu gösteren belge veya belgelere ilişkin bilgiler\,\nc) İstekli Türkiye’de serbest bölgelerde faaliyet gösteriyor ise yukarıdaki belgelerden biriyle birlikte sunduğu serbest bölge faaliyet belgesi.\nİsteklilerin yukarıda sayılan bilgilerden\, kendi durumuna uygun bilgi veya bilgileri belirten isteklilerin ihaleye katılım belgesi uygun kabul edilir.İsteklinin alım konusu malı teklif etmeye yetkisinin bulunup bulunmadığını gösteren belgeler şunlardır: \nİmalat Yeterlik Belgesi\nİmalatçı Belgesi\nKapasite Raporu\nSanayi Sicil Belgesi\n\n\n\n\n\n5- Ekonomik açıdan en avantajlı teklif sadece fiyat esasına göre belirlenecektir. \n6- İhaleye sadece yerli istekliler katılabilecektir. \n7- İhaleye teklif verecek olanların\, EKAP hesabına giriş yaparak ihale dokümanını indirmeleri zorunludur. \n8-Teklifler\, EKAP üzerinden teklif mektubu ile ihaleye katılım belgesi ve diğer ekler kullanılarak hazırlanacak ve e-imza ile imzalanarak ihale tarih ve saatine kadar EKAP üzerinden gönderilecektir. \n9- İstekliler tekliflerini\, her bir iş kaleminin miktarı ile bu iş kalemleri için teklif edilen birim fiyatların çarpımı sonucu bulunan toplam bedel üzerinden teklif birim fiyat şeklinde vereceklerdir. İhale sonucunda\, üzerine ihale yapılan istekliyle birim fiyat sözleşme imzalanacaktır. \n10- Bu ihalede\, kısmı teklif verilebilir. \n11- İstekliler teklif ettikleri bedelin %3’ünden az olmamak üzere kendi belirleyecekleri tutarda geçici teminat vereceklerdir. \n12- Bu ihalede elektronik eksiltme yapılmayacaktır. \n13- Verilen tekliflerin geçerlilik süresi\, ihale tarihinden itibaren 60 (Altmış) takvim günüdür. \n14- Konsorsiyum olarak ihaleye teklif verilemez. \n15- Diğer hususlar: \nTeklif fiyatı ihale komisyonu tarafından aşırı düşük olarak tespit edilen isteklilerden Kanunun 38 inci maddesine göre açıklama istenecektir.\n\nİhale dokümanını buradan indirebilirsiniz: ihale_dokumani_2025_2132705
URL:https://lubricant-world.com/etkinlik/2025-2132705-madeni-yag-ve-antifriz-alimi/
LOCATION:Amsterdam
CATEGORIES:Madeni Yağ İhaleleri
END:VEVENT
BEGIN:VEVENT
DTSTART;TZID=Europe/Moscow:20251226T110000
DTEND;TZID=Europe/Moscow:20251226T110000
DTSTAMP:20260420T182915
CREATED:20251212T071133Z
LAST-MODIFIED:20251212T071133Z
UID:19680-1766746800-1766746800@lubricant-world.com
SUMMARY:2025/2272280 İşletme Müdürlüğümüz emrinde görevli İş Makinelerinin 2026 yılı ihtiyacı olan Akaryakıt ve Madeni Yağ
DESCRIPTION:İlan Tarihi: 12.12.2025\nAKARYAKIT VE MADENİ YAĞ SATIN ALINACAKTIR \nİşletme Müdürlüğümüz emrinde görevli İş Makinelerinin 2026 yılı ihtiyacı olan Akaryakıt ve Madeni Yağ mal alımı 4734 sayılı Kamu İhale Kanununun 19 uncu maddesine göre açık ihale usulü ile ihale edilecektir.\nİhaleye ilişkin ayrıntılı bilgiler aşağıda yer almaktadır: \n\n\n\nİhale Kayıt Numarası (İKN)\n:\n2025/2272280\n\n\n\n\n\n\n1- İdarenin\n\n\n1.1. Adı\n:\nKAHRAMANMARAŞ ORMAN BÖLGE MÜDÜRLÜĞÜ\n\n\n1.2. Adresi\n:\nNecip Fazıl Mahallesi 50002 Sokak No:9 ONİKİŞUBAT/KAHRAMANMARAŞ ONİKİŞUBAT/KAHRAMANMARAŞ\n\n\n1.3. Telefon numarası\n:\n03442344401\n\n\n1.4. İhale dokümanının görülebileceği ve indirilebileceği internet sayfası\n:\nhttps://ekap.kik.gov.tr/EKAP/\n\n\n\n2- İhalenin \n\n\n\n2.1. Tarih ve Saati\n:\n26.12.2025 – 11:00\n\n\n2.2. Yapılacağı (e-tekliflerin açılacağı) adres\n:\nAndrın Orman İşletme Müdürlüğü – İşletme Müdür Yardımcısı Odası\n\n\n\n3- İhale konusu mal alımının \n\n\n\n3.1. Adı\n:\nİşletme Müdürlüğümüz emrinde görevli İş Makinelerinin 2026 yılı ihtiyacı olan Akaryakıt ve Madeni Yağ\n\n\n3.2. Niteliği\, türü ve miktarı\n:\n\n60.000 Litre Motorin\,100 Litre Kurşunsuz Benzin\, 1300 litre adblue\, 150 Litre Antifriz (Süper)\, 300 Litre Motor Yağı(15/40)\, 250 Litre Şanzıman Yağı\,(30 Numara)\, 150 Litre Cer Yağı (80/90)\, 100 Litre Hidrolik Yağı(68 Numara)\, Motor Yağı 10/30 250 litre\, Motor Yağı 10/40 100 Litre\, ve 150 Kğ. Gres Yağı (Sarı Renkli) Alımı\nAyrıntılı bilgiye EKAP’ta yer alan ihale dokümanı içinde bulunan idari şartnameden ulaşılabilir.\n\n\n\n3.3. Yapılacağı/teslim edileceği yer\n:\nYüklenici ile sözleşme imzalandığı andan ve/veya itibaren 31.12.2026 tarihine kadar yüklenicinin Andırın İlçe Merkezi akaryakıt İstasyonlarındaki pompalardan peyder pey teslim alınacaktır\n\n\n3.4. Süresi/teslim tarihi\n:\n. Yüklenici ile sözleşme imzalandığı andan ve/veya tarihinden itibaren 31.12.2026 tarihine kadar yüklenicinin Andırın İlçe Merkezi akaryakıt İstasyonlarındaki pompalardan peyder pey teslim alınacaktır\n\n\n3.5. İşe başlama tarihi\n:\nSözleşmenin yapıldığı gün işe başlama tarihidir\n\n\n\n4- Katılım ve yeterlik kriterleri:\n4.1. Katılım ve yeterlik kriterlerine ilişkin istekliler tarafından e-teklif kapsamında sunulması gereken bilgi ve belgeler ile fiyat dışı unsurlara ilişkin bilgi ve belgelere aşağıda yer verilmiştir:\n4.1.1. Teklif mektubu.\n4.1.2. Teklif vermeye yetkili olunduğunu gösteren bilgi ve belgeler:\n4.1.2.1. Tüzel kişilerde; isteklilerin yönetimindeki görevliler ile ilgisine göre\, ortaklar ve ortaklık oranlarına (halka arz edilen hisseler hariç)/üyelerine/kurucularına ilişkin bilgi ve belgeler.\n4.1.2.2. Vekâleten ihaleye katılma halinde vekile ilişkin bilgi ve belgeler.\n4.1.3. Geçici teminat.\n4.1.4 İsteklinin iş ortaklığı olması halinde iş ortaklığı beyannamesi.\n4.1.5. Yerli malı teklif edenler lehine fiyat avantajından yararlanmak isteyen istekliler tarafından sunulacak yerli malı belgesi \n\n\n\n4.2. Ekonomik ve mali yeterliğe ilişkin bilgi ve belgeler ile bunların taşıması gereken kriterler:\n\n\nEkonomik ve mali yeterliğe ilişkin bilgi\, belge veya kriter belirtilmemiştir.\n\n\n\n  \n\n\n\n4.3. Mesleki ve teknik yeterliğe ilişkin bilgi ve belgeler ile bunların taşıması gereken kriterler:\n\n\n4.3.1 İhale konusu işin ya da malın satış faaliyetinin yerine getirilebilmesi için ilgili mevzuat gereğince sicil\, izin\, ruhsat\, faaliyet belgesi vb. belgeler:\n\n\n\nİş Yeri Açma ve Çalıştırma Ruhsatı\nİşletme Kayıt Belgesi\nPetrol Bayiliği/Dağıtıcılığı Lisans Belgesi\n\n\n\n\n\n5- Ekonomik açıdan en avantajlı teklif sadece fiyat esasına göre belirlenecektir. \n6- İhaleye sadece yerli istekliler katılabilecektir. \n7- İhaleye teklif verecek olanların\, EKAP hesabına giriş yaparak ihale dokümanını indirmeleri zorunludur. \n8-Teklifler\, EKAP üzerinden teklif mektubu ile ihaleye katılım belgesi ve diğer ekler kullanılarak hazırlanacak ve e-imza ile imzalanarak ihale tarih ve saatine kadar EKAP üzerinden gönderilecektir. \n9- İstekliler tekliflerini\, her bir iş kaleminin miktarı ile bu iş kalemleri için teklif edilen birim fiyatların çarpımı sonucu bulunan toplam bedel üzerinden teklif birim fiyat şeklinde vereceklerdir. İhale sonucunda\, üzerine ihale yapılan istekliyle birim fiyat sözleşme imzalanacaktır. \n10- Bu ihalede\, işin tamamı için teklif verilecektir. \n11- İstekliler teklif ettikleri bedelin %3’ünden az olmamak üzere kendi belirleyecekleri tutarda geçici teminat vereceklerdir. \n12- Bu ihalede elektronik eksiltme yapılmayacaktır. \n13- Verilen tekliflerin geçerlilik süresi\, ihale tarihinden itibaren 60 (Altmış) takvim günüdür. \n14- Konsorsiyum olarak ihaleye teklif verilemez. \n15- Diğer hususlar: \nTeklif fiyatı ihale komisyonu tarafından aşırı düşük olarak tespit edilen isteklilerden Kanunun 38 inci maddesine göre açıklama istenecektir.\n\nİhale dokümanını buradan indirebilirsiniz: ihale_dokumani_2025_2272280
URL:https://lubricant-world.com/etkinlik/2025-2272280-isletme-mudurlugumuz-emrinde-gorevli-is-makinelerinin-2026-yili-ihtiyaci-olan-akaryakit-ve-madeni-yag/
LOCATION:Amsterdam
CATEGORIES:Madeni Yağ İhaleleri
END:VEVENT
END:VCALENDAR