BEGIN:VCALENDAR
VERSION:2.0
PRODID:-//Madeni Yağ Dünyası | Lubricant World - ECPv6.15.16//NONSGML v1.0//EN
CALSCALE:GREGORIAN
METHOD:PUBLISH
X-WR-CALNAME:Madeni Yağ Dünyası | Lubricant World
X-ORIGINAL-URL:https://lubricant-world.com
X-WR-CALDESC:Madeni Yağ Dünyası | Lubricant World için etkinlikler
REFRESH-INTERVAL;VALUE=DURATION:PT1H
X-Robots-Tag:noindex
X-PUBLISHED-TTL:PT1H
BEGIN:VTIMEZONE
TZID:Europe/Moscow
BEGIN:STANDARD
TZOFFSETFROM:+0300
TZOFFSETTO:+0300
TZNAME:MSK
DTSTART:20240101T000000
END:STANDARD
END:VTIMEZONE
BEGIN:VEVENT
DTSTART;TZID=Europe/Moscow:20251230T100000
DTEND;TZID=Europe/Moscow:20251230T100000
DTSTAMP:20260420T171935
CREATED:20251212T070703Z
LAST-MODIFIED:20251212T070703Z
UID:19674-1767088800-1767088800@lubricant-world.com
SUMMARY:2025/2146247 ARAÇ VE İŞ MAKİNELERİNİN BAKIM VE ONARIMLARINDA KULLANILMAK ÜZERE MUHTELİF ÖZELLİKLERDE MADENİ YAĞ ANTİFİRİZ VE GRES YAĞI ALIMI
DESCRIPTION:İlan Tarihi: 03.12.2025\nMADENİ YAĞ ANTİFİRİZ VE GRES YAĞI SATIN ALINACAKTIR \nARAÇ VE İŞ MAKİNELERİNİN BAKIM VE ONARIMLARINDA KULLANILMAK ÜZERE MUHTELİF ÖZELLİKLERDE MADENİ YAĞ ANTİFİRİZ VE GRES YAĞI ALIMI mal alımı 4734 sayılı Kamu İhale Kanununun 19 uncu maddesine göre açık ihale usulü ile ihale edilecektir.\nİhaleye ilişkin ayrıntılı bilgiler aşağıda yer almaktadır: \n\n\n\nİhale Kayıt Numarası (İKN)\n:\n2025/2146247\n\n\n\n\n\n\n1- İdarenin\n\n\n1.1. Adı\n:\nBALIKESİR BÜYÜKŞEHİR BELEDİYESİ YOL YAPIM BAKIM VE ONARIM DAİRESİ BAŞKANLIĞI\n\n\n1.2. Adresi\n:\nÇAYIRHİSAR MAH. YENİ İZMİR CAD ALTIEYLÜL/BALIKESİR\n\n\n1.3. Telefon numarası\n:\n02662391510\n\n\n1.4. İhale dokümanının görülebileceği ve indirilebileceği internet sayfası\n:\nhttps://ekap.kik.gov.tr/EKAP/\n\n\n\n2- İhalenin \n\n\n\n2.1. Tarih ve Saati\n:\n30.12.2025 – 10:00\n\n\n2.2. Yapılacağı (e-tekliflerin açılacağı) adres\n:\nESKİ KUYUMCULAR MH. MEKİK SK. NO:25\, K:1\, 110 Nolu Oda Karesi/BALIKESİR\n\n\n\n3- İhale konusu mal alımının \n\n\n\n3.1. Adı\n:\nARAÇ VE İŞ MAKİNELERİNİN BAKIM VE ONARIMLARINDA KULLANILMAK ÜZERE MUHTELİF ÖZELLİKLERDE MADENİ YAĞ ANTİFİRİZ VE GRES YAĞI ALIMI\n\n\n3.2. Niteliği\, türü ve miktarı\n:\n\n1. Kısım Muhtelif Cins Madeni Yağ: 7 Kalem 2. Kısım Ford Marka Araçlar Madeni Yağ: 1 Kalem 3. Kısım Muhtelif Cins Antifiriz ve Gres Yağı: 3 Kalem\nAyrıntılı bilgiye EKAP’ta yer alan ihale dokümanı içinde bulunan idari şartnameden ulaşılabilir.\n\n\n\n3.3. Yapılacağı/teslim edileceği yer\n:\nYol Yapım Bakım ve Onarım Daire Başkanlığı Makine İkmal Şube Müdürlüğü Yedek parça deposuna teslim edilecektir.\n\n\n3.4. Süresi/teslim tarihi\n:\nSözleşmenin imzalanmasına müteakip 30 gün içerisinde teslim edilecektir.\n\n\n3.5. İşe başlama tarihi\n:\nSözleşmenin imzalanmasına müteakip işe başlanacaktır\n\n\n\n4- Katılım ve yeterlik kriterleri:\n4.1. Katılım ve yeterlik kriterlerine ilişkin istekliler tarafından e-teklif kapsamında sunulması gereken bilgi ve belgeler ile fiyat dışı unsurlara ilişkin bilgi ve belgelere aşağıda yer verilmiştir:\n4.1.1. Teklif mektubu.\n4.1.2. Teklif vermeye yetkili olunduğunu gösteren bilgi ve belgeler:\n4.1.2.1. Tüzel kişilerde; isteklilerin yönetimindeki görevliler ile ilgisine göre\, ortaklar ve ortaklık oranlarına (halka arz edilen hisseler hariç)/üyelerine/kurucularına ilişkin bilgi ve belgeler.\n4.1.2.2. Vekâleten ihaleye katılma halinde vekile ilişkin bilgi ve belgeler.\n4.1.3. Geçici teminat.\n4.1.4 İsteklinin iş ortaklığı olması halinde iş ortaklığı beyannamesi.\n4.1.5. Yerli malı teklif edenler lehine fiyat avantajından yararlanmak isteyen istekliler tarafından sunulacak yerli malı belgesi \n\n\n\n4.2. Ekonomik ve mali yeterliğe ilişkin bilgi ve belgeler ile bunların taşıması gereken kriterler:\n\n\nEkonomik ve mali yeterliğe ilişkin bilgi\, belge veya kriter belirtilmemiştir.\n\n\n\n  \n\n\n\n4.3. Mesleki ve teknik yeterliğe ilişkin bilgi ve belgeler ile bunların taşıması gereken kriterler:\n\n\n4.3.1 İhale konusu işin ya da malın satış faaliyetinin yerine getirilebilmesi için ilgili mevzuat gereğince sicil\, izin\, ruhsat\, faaliyet belgesi vb. belgeler:\n\n\n\nEPDK MADENİ YAĞ LİSANS BELGESİ\n\n\n\n\n4.3.2. Yetkili satıcılığı veya imalatçılığı gösteren belgelere ilişkin bilgiler:\n\n\na) İmalatçı ise imalatçı olduğunu gösteren belge veya belgelere ilişkin bilgiler\,\nb) Yetkili satıcı veya yetkili temsilci ise yetkili satıcı ya da yetkili temsilci olduğunu gösteren belge veya belgelere ilişkin bilgiler\,\nc) İstekli Türkiye’de serbest bölgelerde faaliyet gösteriyor ise yukarıdaki belgelerden biriyle birlikte sunduğu serbest bölge faaliyet belgesi.\nİsteklilerin yukarıda sayılan bilgilerden\, kendi durumuna uygun bilgi veya bilgileri belirten isteklilerin ihaleye katılım belgesi uygun kabul edilir.İsteklinin alım konusu malı teklif etmeye yetkisinin bulunup bulunmadığını gösteren belgeler şunlardır: \nİmalat Yeterlik Belgesi\nKapasite Raporu\nSanayi Sicil Belgesi\nYerli Malı Belgesi veya Teknolojik Ürün Deneyim Belgesi\nYetkili Satıcı Belgesi\n\n\n\n\n4.3.3 Katalog ve/veya fotoğraf ile teknik şartnameye cevapları ve açıklamaları içeren dokümana ilişkin belgelere ait bilgiler:\n\n\n\nKatalog\n\n\n\n\n4.3.4. İstekli tarafından teklifi kapsamında ihaleye katılım belgesine aktarılarak sunulması ve/veya sağlanması gerektiği bu Şartnamenin 7 nci maddesi dışındaki maddeleri ile teknik şartnamede belirtilen aşağıdaki belgeler ve/veya yeterlik kriterleri:\n\n\n\nAraç üretici onayı veya sertifikasyonuna ilişkin belge\nLaboratuvar\n\n\n\n\n\n5- Ekonomik açıdan en avantajlı teklif sadece fiyat esasına göre belirlenecektir. \n6- İhaleye sadece yerli istekliler katılabilecektir. \n7- İhaleye teklif verecek olanların\, EKAP hesabına giriş yaparak ihale dokümanını indirmeleri zorunludur. \n8-Teklifler\, EKAP üzerinden teklif mektubu ile ihaleye katılım belgesi ve diğer ekler kullanılarak hazırlanacak ve e-imza ile imzalanarak ihale tarih ve saatine kadar EKAP üzerinden gönderilecektir. \n9- İstekliler tekliflerini\, her bir iş kaleminin miktarı ile bu iş kalemleri için teklif edilen birim fiyatların çarpımı sonucu bulunan toplam bedel üzerinden teklif birim fiyat şeklinde vereceklerdir. İhale sonucunda\, üzerine ihale yapılan istekliyle birim fiyat sözleşme imzalanacaktır. \n10- Bu ihalede\, kısmı teklif verilebilir. \n11- İstekliler teklif ettikleri bedelin %3’ünden az olmamak üzere kendi belirleyecekleri tutarda geçici teminat vereceklerdir. \n12- Bu ihalede elektronik eksiltme yapılmayacaktır. \n13- Verilen tekliflerin geçerlilik süresi\, ihale tarihinden itibaren 90 (Doksan) takvim günüdür. \n14- Konsorsiyum olarak ihaleye teklif verilemez. \n15- Diğer hususlar: \nTeklif fiyatı ihale komisyonu tarafından aşırı düşük olarak tespit edilen isteklilerden Kanunun 38 inci maddesine göre açıklama istenecektir.\n\nİhale dokümanını buradan indirebilirsiniz: ihale_dokumani_2025_2146247
URL:https://lubricant-world.com/etkinlik/2025-2146247-arac-ve-is-makinelerinin-bakim-ve-onarimlarinda-kullanilmak-uzere-muhtelif-ozelliklerde-madeni-yag-antifiriz-ve-gres-yagi-alimi/
LOCATION:Amsterdam
CATEGORIES:Madeni Yağ İhaleleri
END:VEVENT
END:VCALENDAR