BEGIN:VCALENDAR
VERSION:2.0
PRODID:-//Madeni Yağ Dünyası | Lubricant World - ECPv6.15.16//NONSGML v1.0//EN
CALSCALE:GREGORIAN
METHOD:PUBLISH
X-ORIGINAL-URL:https://lubricant-world.com
X-WR-CALDESC:Madeni Yağ Dünyası | Lubricant World için etkinlikler
REFRESH-INTERVAL;VALUE=DURATION:PT1H
X-Robots-Tag:noindex
X-PUBLISHED-TTL:PT1H
BEGIN:VTIMEZONE
TZID:Europe/Moscow
BEGIN:STANDARD
TZOFFSETFROM:+0300
TZOFFSETTO:+0300
TZNAME:MSK
DTSTART:20250101T000000
END:STANDARD
END:VTIMEZONE
BEGIN:VEVENT
DTSTART;TZID=Europe/Moscow:20260105T110000
DTEND;TZID=Europe/Moscow:20260105T110000
DTSTAMP:20260420T170717
CREATED:20251212T065855Z
LAST-MODIFIED:20251212T070031Z
UID:19666-1767610800-1767610800@lubricant-world.com
SUMMARY:2025/2258561 2026 Mali Yılı Akaryakıt ve Yağ Temini
DESCRIPTION:İlan Tarihi: 11.12.2025\nAKARYAKIT VE MADENİ YAĞ SATIN ALINACAKTIR2026 Mali Yılı Akaryakıt ve Yağ Temini mal alımı 4734 sayılı Kamu İhale Kanununun 19 uncu maddesine göre açık ihale usulü ile ihale edilecektir.\nİhaleye ilişkin ayrıntılı bilgiler aşağıda yer almaktadır: \n\n\n\nİhale Kayıt Numarası (İKN)\n:\n2025/2258561\n\n\n\n\n\n\n1- İdarenin\n\n\n1.1. Adı\n:\nDEMİRÖZÜ BELEDİYE BAŞKANLIĞI\n\n\n1.2. Adresi\n:\nEsentepe Mahallesi Fatih Sultan Mehmet Caddesi No:1 Demirözü/BAYBURT DEMİRÖZÜ/BAYBURT\n\n\n1.3. Telefon numarası\n:\n04584116003\n\n\n1.4. İhale dokümanının görülebileceği ve indirilebileceği internet sayfası\n:\nhttps://ekap.kik.gov.tr/EKAP/\n\n\n\n2- İhalenin \n\n\n\n2.1. Tarih ve Saati\n:\n05.01.2026 – 11:00\n\n\n2.2. Yapılacağı (e-tekliflerin açılacağı) adres\n:\nDEMİRÖZÜ BELEDİYESİ MECLİS SALONU\n\n\n\n3- İhale konusu mal alımının \n\n\n\n3.1. Adı\n:\n2026 Mali Yılı Akaryakıt ve Yağ Temini\n\n\n3.2. Niteliği\, türü ve miktarı\n:\n\n110.000 litre motorin ( Euro Dizel)\, 10 adet 20W-50 Motor yağı ( her biri 16 litre)\, 35 adet 46 numara hidrolik yağı (her biri 16 litre) yer almaktadır.\nAyrıntılı bilgiye EKAP’ta yer alan ihale dokümanı içinde bulunan idari şartnameden ulaşılabilir.\n\n\n\n3.3. Yapılacağı/teslim edileceği yer\n:\nYükleniciye ait bayi dağıtım istasyonlarının pompalarından idaremiz ihtiyacı nispetinde alım yapılacaktır.\n\n\n3.4. Süresi/teslim tarihi\n:\nYükleniciye ait bayi dağıtım istasyonlarının pompalarından\, idaremizin ihtiyaçları doğrultsunda akaryakıt alımları yapılacaktır. Bu alımlar\, sözleşme imzalandıktan sonra başlayacak olup 31.12.2026 tarihine kadar belirli periyotlarla ihtiyaca göre peyderpey gerçekleştirilecektir. Alım işlemleri \, idaremizin belirlediği miktar ve zaman dilimlerine göre düzenlenecek olup\, her bir alımda akaryakıtın teslimatının sorunsuz bir şekilde yapılması sağlanacaktır. Bu süreç yükleniciyle yapılan sözleşme şartlarına uygun olarak yürütülecektir. Madeni yağlar için: Malzemeler sözleşme tarihi itibari ile 30 (otuz) takvim günü içerisinde tek seferde elden teslim edilecektir. Teslim yeri Demirözü Belediyesi Araç Kademesidir.\n\n\n3.5. İşe başlama tarihi\n:\nİhalenin sözleşmeye bağlanmasından sonra idarenin tespit edeceği gün.\n\n\n\n4- Katılım ve yeterlik kriterleri:\n4.1. Katılım ve yeterlik kriterlerine ilişkin istekliler tarafından e-teklif kapsamında sunulması gereken bilgi ve belgeler ile fiyat dışı unsurlara ilişkin bilgi ve belgelere aşağıda yer verilmiştir:\n4.1.1. Teklif mektubu.\n4.1.2. Teklif vermeye yetkili olunduğunu gösteren bilgi ve belgeler:\n4.1.2.1. Tüzel kişilerde; isteklilerin yönetimindeki görevliler ile ilgisine göre\, ortaklar ve ortaklık oranlarına (halka arz edilen hisseler hariç)/üyelerine/kurucularına ilişkin bilgi ve belgeler.\n4.1.2.2. Vekâleten ihaleye katılma halinde vekile ilişkin bilgi ve belgeler.\n4.1.3. Geçici teminat.\n4.1.4 İsteklinin iş ortaklığı olması halinde iş ortaklığı beyannamesi.\n4.1.5. Yerli malı teklif edenler lehine fiyat avantajından yararlanmak isteyen istekliler tarafından sunulacak yerli malı belgesi \n\n\n\n4.2. Ekonomik ve mali yeterliğe ilişkin bilgi ve belgeler ile bunların taşıması gereken kriterler:\n\n\nEkonomik ve mali yeterliğe ilişkin bilgi\, belge veya kriter belirtilmemiştir.\n\n\n\n  \n\n\n\n4.3. Mesleki ve teknik yeterliğe ilişkin bilgi ve belgeler ile bunların taşıması gereken kriterler:\n\n\nMesleki ve teknik yeterliğe ilişkin bilgi\, belge veya kriter belirtilmemiştir.\n\n\n\n5- Ekonomik açıdan en avantajlı teklif sadece fiyat esasına göre belirlenecektir. \n6- İhaleye sadece yerli istekliler katılabilecektir. \n7- İhaleye teklif verecek olanların\, EKAP hesabına giriş yaparak ihale dokümanını indirmeleri zorunludur. \n8-Teklifler\, EKAP üzerinden teklif mektubu ile ihaleye katılım belgesi ve diğer ekler kullanılarak hazırlanacak ve e-imza ile imzalanarak ihale tarih ve saatine kadar EKAP üzerinden gönderilecektir. \n9- İstekliler tekliflerini\, her bir iş kaleminin miktarı ile bu iş kalemleri için teklif edilen birim fiyatların çarpımı sonucu bulunan toplam bedel üzerinden teklif birim fiyat şeklinde vereceklerdir. İhale sonucunda\, üzerine ihale yapılan istekliyle birim fiyat sözleşme imzalanacaktır. \n10- Bu ihalede\, işin tamamı için teklif verilecektir. \n11- İstekliler teklif ettikleri bedelin %3’ünden az olmamak üzere kendi belirleyecekleri tutarda geçici teminat vereceklerdir. \n12- Bu ihalede elektronik eksiltme yapılmayacaktır. \n13- Verilen tekliflerin geçerlilik süresi\, ihale tarihinden itibaren 5 (Beş) takvim günüdür. \n14- Konsorsiyum olarak ihaleye teklif verilemez. \n15- Diğer hususlar: \nTeklif fiyatı ihale komisyonu tarafından aşırı düşük olarak tespit edilen isteklilerden Kanunun 38 inci maddesine göre açıklama istenecektir.\n\nİhale dokümanını buradan indirebilirsiniz: ihale_dokumani_2025_2258561
URL:https://lubricant-world.com/etkinlik/2025-2258561-2026-mali-yili-akaryakit-ve-yag-temini/
LOCATION:Amsterdam
CATEGORIES:Madeni Yağ İhaleleri
END:VEVENT
END:VCALENDAR