BEGIN:VCALENDAR
VERSION:2.0
PRODID:-//Madeni Yağ Dünyası | Lubricant World - ECPv6.15.16//NONSGML v1.0//EN
CALSCALE:GREGORIAN
METHOD:PUBLISH
X-WR-CALNAME:Madeni Yağ Dünyası | Lubricant World
X-ORIGINAL-URL:https://lubricant-world.com
X-WR-CALDESC:Madeni Yağ Dünyası | Lubricant World için etkinlikler
REFRESH-INTERVAL;VALUE=DURATION:PT1H
X-Robots-Tag:noindex
X-PUBLISHED-TTL:PT1H
BEGIN:VTIMEZONE
TZID:Europe/Moscow
BEGIN:STANDARD
TZOFFSETFROM:+0300
TZOFFSETTO:+0300
TZNAME:MSK
DTSTART:20250101T000000
END:STANDARD
END:VTIMEZONE
BEGIN:VEVENT
DTSTART;TZID=Europe/Moscow:20260108T110000
DTEND;TZID=Europe/Moscow:20260108T110000
DTSTAMP:20260420T170544
CREATED:20251219T082433Z
LAST-MODIFIED:20251219T082433Z
UID:19705-1767870000-1767870000@lubricant-world.com
SUMMARY:2025/2287709 Akaryakıt ve Yağ
DESCRIPTION:İlan Tarihi: 15.12.2025\n\nAKARYAKIT VE MADENİ YAĞ SATIN ALINACAKTIR \nAkaryakıt ve Yağ mal alımı 4734 sayılı Kamu İhale Kanununun 19 uncu maddesine göre açık ihale usulü ile ihale edilecektir.\nİhaleye ilişkin ayrıntılı bilgiler aşağıda yer almaktadır: \n\n\n\nİhale Kayıt Numarası (İKN)\n:\n2025/2287709\n\n\n\n\n\n\n1- İdarenin\n\n\n1.1. Adı\n:\nFEN İŞLERİ MÜDÜRLÜĞÜ\n\n\n1.2. Adresi\n:\nOrtamahalle Senetli 2 Nolu Sokak No:3 TONYA/TRABZON\n\n\n1.3. Telefon numarası\n:\n04628813010\n\n\n1.4. İhale dokümanının görülebileceği ve indirilebileceği internet sayfası\n:\nhttps://ekap.kik.gov.tr/EKAP/\n\n\n\n2- İhalenin \n\n\n\n2.1. Tarih ve Saati\n:\n08.01.2026 – 11:00\n\n\n2.2. Yapılacağı (e-tekliflerin açılacağı) adres\n:\nTonya Belediye Başkanlığı Fen ve İmar İşleri Müdürlüğü\n\n\n\n3- İhale konusu mal alımının \n\n\n\n3.1. Adı\n:\nAkaryakıt ve Yağ\n\n\n3.2. Niteliği\, türü ve miktarı\n:\n\nHIDROLIK SISTEM YAGI ( 46 ) : 1.000 Litre \, 10W-30 TRANSMISYON YAGI : 50 Litre\, 422 TRANSMISYON YAGI : 50 Litre\, 15W – 40 MOTOR YAGI : 100 Litre\, FREN HIDROLIK YAGI : 100 Litre\, ANTIFIRIZ 200 Litre\, ADBLUE KATKI YAKITI : 1000 Litre\, EURO DIZEL MOTORIN : 120.000 Litre\, KURSUNSUZ BENZIN 95 OKTAN : 200 Litre\nAyrıntılı bilgiye EKAP’ta yer alan ihale dokümanı içinde bulunan idari şartnameden ulaşılabilir.\n\n\n\n3.3. Yapılacağı/teslim edileceği yer\n:\nSözleşme imzalandıktan sonra ihtiyaca binaen 31/12/2026 tarihine kadar peyderpey alım yapılacaktır.\n\n\n3.4. Süresi/teslim tarihi\n:\nSözleşme imzalandıktan sonra 31/12/2026 Tarihine kadardır.\n\n\n3.5. İşe başlama tarihi\n:\nSözleşme imzalandıktan sonra 31/12/2026 Tarihine kadardır.\n\n\n\n4- Katılım ve yeterlik kriterleri:\n4.1. Katılım ve yeterlik kriterlerine ilişkin istekliler tarafından e-teklif kapsamında sunulması gereken bilgi ve belgeler ile fiyat dışı unsurlara ilişkin bilgi ve belgelere aşağıda yer verilmiştir:\n4.1.1. Teklif mektubu.\n4.1.2. Teklif vermeye yetkili olunduğunu gösteren bilgi ve belgeler:\n4.1.2.1. Tüzel kişilerde; isteklilerin yönetimindeki görevliler ile ilgisine göre\, ortaklar ve ortaklık oranlarına (halka arz edilen hisseler hariç)/üyelerine/kurucularına ilişkin bilgi ve belgeler.\n4.1.2.2. Vekâleten ihaleye katılma halinde vekile ilişkin bilgi ve belgeler.\n4.1.3. Geçici teminat.\n4.1.4 İsteklinin iş ortaklığı olması halinde iş ortaklığı beyannamesi.\n4.1.5. Yerli malı teklif edenler lehine fiyat avantajından yararlanmak isteyen istekliler tarafından sunulacak yerli malı belgesi \n\n\n\n4.2. Ekonomik ve mali yeterliğe ilişkin bilgi ve belgeler ile bunların taşıması gereken kriterler:\n\n\nEkonomik ve mali yeterliğe ilişkin bilgi\, belge veya kriter belirtilmemiştir.\n\n\n\n\n\n\n4.3. Mesleki ve teknik yeterliğe ilişkin bilgi ve belgeler ile bunların taşıması gereken kriterler:\n\n\n4.3.1. Son beş yıl içinde bedel içeren bir sözleşme kapsamında kesin kabul işlemleri tamamlanan ve teklif edilen bedelin % 30 oranından az olmamak üzere ihale konusu iş veya benzer işlere ilişkin iş deneyimini gösteren belgelere veya teknolojik ürün deneyim belgesine ait bilgiler.\n4.3.1.1. Tüzel kişi tarafından iş deneyimini göstermek üzere kullanılan belgenin\, tüzel kişiliğin yarısından fazla hissesine sahip ve 4734 sayılı Kanuna göre yapılacak ihalelere ilişkin sözleşmelerin yürütülmesi konusunda temsile ve yönetime yetkili olan ortağına ait olması halinde\, ticaret ve sanayi odası/ticaret odası bünyesinde bulunan ticaret sicili müdürlükleri veya yeminli mali müşavir ya da serbest muhasebeci mali müşavir tarafından ilk ilan tarihinden sonra düzenlenen ve düzenlendiği tarihten geriye doğru son bir yıldır kesintisiz olarak bu şartların korunduğunu gösteren\, e-forma uygun belgenin kullanılması zorunludur. \n4.3.1.2. 4734 sayılı Kanun kapsamındaki idarelere taahhüt edilenler dışında yurt dışında gerçekleştirilen işlerden elde edilen iş deneyiminin 13/1/2011 tarihli ve 6102 sayılı Türk Ticaret Kanununun 195 inci maddesinin ikinci fıkrası gereğince pay çoğunluğuna dayanarak kurulan şirketler topluluğu ilişkisi içinde kullanılması halinde bu hukuki ilişkiyi ve bu ilişkinin süresini tevsik eden belgelerin sunulması zorunludur.\n\n\n4.3.2 İhale konusu işin ya da malın satış faaliyetinin yerine getirilebilmesi için ilgili mevzuat gereğince sicil\, izin\, ruhsat\, faaliyet belgesi vb. belgeler:\n\n\n\nPetrol Bayiliği/Dağıtıcılığı Lisans Belgesi\n\n\n\n\n\n\n\n\n4.4. Bu ihalede benzer iş olarak kabul edilecek işler:\n\n\n4.4.1.Kamu veya özel kuruluşlara yapılan akaryakıt satışı benzer iş olarak kabul edilecektir.\n\n\n\n5- Ekonomik açıdan en avantajlı teklif sadece fiyat esasına göre belirlenecektir. \n6- İhaleye sadece yerli istekliler katılabilecek olup yerli malı teklif eden yerli istekliye ihalenin tamamında % 15 (yüzde on beş) oranında fiyat avantajı uygulanacaktır. \n7- İhaleye teklif verecek olanların\, EKAP hesabına giriş yaparak ihale dokümanını indirmeleri zorunludur. \n8-Teklifler\, EKAP üzerinden teklif mektubu ile ihaleye katılım belgesi ve diğer ekler kullanılarak hazırlanacak ve e-imza ile imzalanarak ihale tarih ve saatine kadar EKAP üzerinden gönderilecektir. \n9- İstekliler tekliflerini\, her bir iş kaleminin miktarı ile bu iş kalemleri için teklif edilen birim fiyatların çarpımı sonucu bulunan toplam bedel üzerinden teklif birim fiyat şeklinde vereceklerdir. İhale sonucunda\, üzerine ihale yapılan istekliyle birim fiyat sözleşme imzalanacaktır. \n10- Bu ihalede\, kısmı teklif verilebilir. \n11- İstekliler teklif ettikleri bedelin %3’ünden az olmamak üzere kendi belirleyecekleri tutarda geçici teminat vereceklerdir. \n12- Bu ihalede elektronik eksiltme yapılmayacaktır. \n13- Verilen tekliflerin geçerlilik süresi\, ihale tarihinden itibaren 60 (Altmış) takvim günüdür. \n14- Konsorsiyum olarak ihaleye teklif verilemez. \n15- Diğer hususlar: \n\nTeklif fiyatı ihale komisyonu tarafından aşırı düşük olarak tespit edilen isteklilerden Kanunun 38 inci maddesine göre açıklama istenecektir.\n\nİhale dokümanını buradan indirebilirsiniz: ihale_dokumani_2025_2287709
URL:https://lubricant-world.com/etkinlik/2025-2287709-akaryakit-ve-yag/
LOCATION:Amsterdam
CATEGORIES:Madeni Yağ İhaleleri
END:VEVENT
END:VCALENDAR