BEGIN:VCALENDAR
VERSION:2.0
PRODID:-//Madeni Yağ Dünyası | Lubricant World - ECPv6.15.16//NONSGML v1.0//EN
CALSCALE:GREGORIAN
METHOD:PUBLISH
X-WR-CALNAME:Madeni Yağ Dünyası | Lubricant World
X-ORIGINAL-URL:https://lubricant-world.com
X-WR-CALDESC:Madeni Yağ Dünyası | Lubricant World için etkinlikler
REFRESH-INTERVAL;VALUE=DURATION:PT1H
X-Robots-Tag:noindex
X-PUBLISHED-TTL:PT1H
BEGIN:VTIMEZONE
TZID:Europe/Moscow
BEGIN:STANDARD
TZOFFSETFROM:+0300
TZOFFSETTO:+0300
TZNAME:MSK
DTSTART:20250101T000000
END:STANDARD
END:VTIMEZONE
BEGIN:VEVENT
DTSTART;TZID=Europe/Moscow:20260115T150000
DTEND;TZID=Europe/Moscow:20260115T150000
DTSTAMP:20260420T171221
CREATED:20251225T081530Z
LAST-MODIFIED:20251225T081530Z
UID:19826-1768489200-1768489200@lubricant-world.com
SUMMARY:2025/2186570 Metro İşletme Şube Müdürlüğü Araç Bakım Birimine Ait Muhtelif Yağ ve Temizleme Kimyasalları Mal Alımı İşi
DESCRIPTION:İlan Tarihi: 22.12.2025\nARAÇ YAĞ VE TEMİZLEME KİMYASALLARI SATIN ALINACAKTIR \nMetro İşletme Şube Müdürlüğü Araç Bakım Birimine Ait Muhtelif Yağ ve Temizleme Kimyasalları Mal Alımı İşi mal alımı 4734 sayılı Kamu İhale Kanununun 19 uncu maddesine göre açık ihale usulü ile ihale edilecektir.\nİhaleye ilişkin ayrıntılı bilgiler aşağıda yer almaktadır: \n\n\n\nİhale Kayıt Numarası (İKN)\n:\n2025/2186570\n\n\n\n\n\n\n1- İdarenin\n\n\n1.1. Adı\n:\nANKARA ELEKTRİK\, HAVAGAZI VE OTOBÜS İŞLETME MÜESSESESİ GENEL MÜDÜRLÜĞÜ – SATIN ALMA ŞUBE MÜDÜRLÜĞÜ\n\n\n1.2. Adresi\n:\nMehmet Akif Ersoy Mahallesi İstiklal Marşı Caddesi No:9 YENİMAHALLE/ANKARA YENİMAHALLE/ANKARA\n\n\n1.3. Telefon numarası\n:\n03123545933\n\n\n1.4. İhale dokümanının görülebileceği ve indirilebileceği internet sayfası\n:\nhttps://ekap.kik.gov.tr/EKAP/\n\n\n\n2- İhalenin \n\n\n\n2.1. Tarih ve Saati\n:\n15.01.2026 – 15:00\n\n\n2.2. Yapılacağı (e-tekliflerin açılacağı) adres\n:\nAnkara Metrosu İşletmesi Bakım Merkezi Mehmet Akif Ersoy Mahallesi İstiklal Marşı Caddesi No: 9 Kat: 2 Toplantı Salonu – 06370 Macunköy -Yenimahalle/ANKARA\n\n\n\n3- İhale konusu mal alımının \n\n\n\n3.1. Adı\n:\nMetro İşletme Şube Müdürlüğü Araç Bakım Birimine Ait Muhtelif Yağ ve Temizleme Kimyasalları Mal Alımı İşi\n\n\n3.2. Niteliği\, türü ve miktarı\n:\n\n17 Kalem Mal Alımı\, Metro İşletme Şube Müdürlüğü Araç Bakım Birimine Ait Muhtelif Yağ ve Temizleme Kimyasalları Mal Alımı İşi\nAyrıntılı bilgiye EKAP’ta yer alan ihale dokümanı içinde bulunan idari şartnameden ulaşılabilir.\n\n\n\n3.3. Yapılacağı/teslim edileceği yer\n:\nAnkara Metrosu İşletmesi Bakım Merkezi Mehmet Akif Ersoy Mahallesi İstiklal Marşı Caddesi No: 9- 06370 Macunköy -Yenimahalle/ANKARA\n\n\n3.4. Süresi/teslim tarihi\n:\nİşin Süresi \, işe başlama tarihinden itibaren 60 ( altmış) takvim günüdür. Son kullanma tarihi 9(dokuz) aydan az kalmış ürünler idareye teslim edilmeyecektir. Teslim Yeri : Metro İşletme Şube Müdürlüğü \, Macunköy İşletme ve Bakım Merkezi\, Mehmet Akif Ersoy Mah. İstiklal Marşı Cad. No:9 Yenimahalle / ANKARA Nakliye ile ilgili tüm giderler ve ortaya çıkabilecek zarar/ziyanlar yüklenicinin sorumluluğundadır. Malzemeler ile ilgili Malzeme Güvenlik Bilgi Formu (MSDS) Ve Teknik Bilgi Formunu (TDS) Teslimat sırasında idareye teslim edilecektir. Ambalajlar ürün özelliğini raf ömrü boyunca stabil tutacak yapıda olacak ürüne zarar vermeyecektir.\n\n\n3.5. İşe başlama tarihi\n:\nSözleşmenin imzalanmasını takip eden gündür.\n\n\n\n4- Katılım ve yeterlik kriterleri:\n4.1. Katılım ve yeterlik kriterlerine ilişkin istekliler tarafından e-teklif kapsamında sunulması gereken bilgi ve belgeler ile fiyat dışı unsurlara ilişkin bilgi ve belgelere aşağıda yer verilmiştir:\n4.1.1. Teklif mektubu.\n4.1.2. Teklif vermeye yetkili olunduğunu gösteren bilgi ve belgeler:\n4.1.2.1. Tüzel kişilerde; isteklilerin yönetimindeki görevliler ile ilgisine göre\, ortaklar ve ortaklık oranlarına (halka arz edilen hisseler hariç)/üyelerine/kurucularına ilişkin bilgi ve belgeler.\n4.1.2.2. Vekâleten ihaleye katılma halinde vekile ilişkin bilgi ve belgeler.\n4.1.3. Geçici teminat.\n4.1.4 İsteklinin iş ortaklığı olması halinde iş ortaklığı beyannamesi.\n4.1.5. Yerli malı teklif edenler lehine fiyat avantajından yararlanmak isteyen istekliler tarafından sunulacak yerli malı belgesi \n\n\n\n4.2. Ekonomik ve mali yeterliğe ilişkin bilgi ve belgeler ile bunların taşıması gereken kriterler:\n\n\nEkonomik ve mali yeterliğe ilişkin bilgi\, belge veya kriter belirtilmemiştir.\n\n\n\n  \n\n\n\n4.3. Mesleki ve teknik yeterliğe ilişkin bilgi ve belgeler ile bunların taşıması gereken kriterler:\n\n\nMesleki ve teknik yeterliğe ilişkin bilgi\, belge veya kriter belirtilmemiştir.\n\n\n\n5- Ekonomik açıdan en avantajlı teklif sadece fiyat esasına göre belirlenecektir. \n6- İhaleye sadece yerli istekliler katılabilecek olup yerli malı teklif eden yerli istekliye ihalenin tamamında % 15 (yüzde on beş) oranında fiyat avantajı uygulanacaktır. \n7- İhaleye teklif verecek olanların\, EKAP hesabına giriş yaparak ihale dokümanını indirmeleri zorunludur. \n8-Teklifler\, EKAP üzerinden teklif mektubu ile ihaleye katılım belgesi ve diğer ekler kullanılarak hazırlanacak ve e-imza ile imzalanarak ihale tarih ve saatine kadar EKAP üzerinden gönderilecektir. \n9- İstekliler tekliflerini\, her bir iş kaleminin miktarı ile bu iş kalemleri için teklif edilen birim fiyatların çarpımı sonucu bulunan toplam bedel üzerinden teklif birim fiyat şeklinde vereceklerdir. İhale sonucunda\, üzerine ihale yapılan istekliyle birim fiyat sözleşme imzalanacaktır. \n10- Bu ihalede\, kısmı teklif verilebilir. \n11- İstekliler teklif ettikleri bedelin %3’ünden az olmamak üzere kendi belirleyecekleri tutarda geçici teminat vereceklerdir. \n12- Bu ihalede elektronik eksiltme yapılmayacaktır. \n13- Verilen tekliflerin geçerlilik süresi\, ihale tarihinden itibaren 90 (Doksan) takvim günüdür. \n14- Konsorsiyum olarak ihaleye teklif verilemez. \n15- Diğer hususlar: \nTeklif fiyatı ihale komisyonu tarafından aşırı düşük olarak tespit edilen isteklilerden Kanunun 38 inci maddesine göre açıklama istenecektir.\n\nİhale dokümanını buradan indirebilirsiniz: ihale_dokumani_2025_2186570
URL:https://lubricant-world.com/etkinlik/2025-2186570-metro-isletme-sube-mudurlugu-arac-bakim-birimine-ait-muhtelif-yag-ve-temizleme-kimyasallari-mal-alimi-isi/
LOCATION:Amsterdam
CATEGORIES:Madeni Yağ İhaleleri
END:VEVENT
END:VCALENDAR