BEGIN:VCALENDAR
VERSION:2.0
PRODID:-//Madeni Yağ Dünyası | Lubricant World - ECPv6.15.16//NONSGML v1.0//EN
CALSCALE:GREGORIAN
METHOD:PUBLISH
X-ORIGINAL-URL:https://lubricant-world.com
X-WR-CALDESC:Madeni Yağ Dünyası | Lubricant World için etkinlikler
REFRESH-INTERVAL;VALUE=DURATION:PT1H
X-Robots-Tag:noindex
X-PUBLISHED-TTL:PT1H
BEGIN:VTIMEZONE
TZID:Europe/Moscow
BEGIN:STANDARD
TZOFFSETFROM:+0300
TZOFFSETTO:+0300
TZNAME:MSK
DTSTART:20250101T000000
END:STANDARD
END:VTIMEZONE
BEGIN:VEVENT
DTSTART;TZID=Europe/Moscow:20260127T100000
DTEND;TZID=Europe/Moscow:20260127T100000
DTSTAMP:20260420T154905
CREATED:20260106T080030Z
LAST-MODIFIED:20260106T080030Z
UID:19947-1769508000-1769508000@lubricant-world.com
SUMMARY:2025/2499115 Madeni Yağ ve Antifriz Alımı İşi
DESCRIPTION:İlan Tarihi: 05.01.2026\nMADENİ YAĞ VE ANTİFRİZ SATIN ALINACAKTIR \nMadeni Yağ ve Antifriz Alımı İşi mal alımı 4734 sayılı Kamu İhale Kanununun 19 uncu maddesine göre açık ihale usulü ile ihale edilecektir.\nİhaleye ilişkin ayrıntılı bilgiler aşağıda yer almaktadır: \n\n\n\nİhale Kayıt Numarası (İKN)\n:\n2025/2499115\n\n\n\n\n\n\n1- İdarenin\n\n\n1.1. Adı\n:\nYÜREĞİR BELEDİYESİ DESTEK HİZMETLERİ MÜDÜRLÜĞÜ\n\n\n1.2. Adresi\n:\nYavuzlar Mah. 4071 sokak 4 012 YÜREĞİR/ADANA\n\n\n1.3. Telefon numarası\n:\n03223217070\n\n\n1.4. İhale dokümanının görülebileceği ve indirilebileceği internet sayfası\n:\nhttps://ekap.kik.gov.tr/EKAP/\n\n\n\n2- İhalenin \n\n\n\n2.1. Tarih ve Saati\n:\n27.01.2026 – 10:00\n\n\n2.2. Yapılacağı (e-tekliflerin açılacağı) adres\n:\nYüreğir Belediyesi Destek Hizmetleri Müdürlüğü İhale Birimi\n\n\n\n3- İhale konusu mal alımının \n\n\n\n3.1. Adı\n:\nMadeni Yağ ve Antifriz Alımı İşi\n\n\n3.2. Niteliği\, türü ve miktarı\n:\n\n2 Kısım ve Toplamda 13 kalem Madeni Yağ ve Antifriz Alımı\nAyrıntılı bilgiye EKAP’ta yer alan ihale dokümanı içinde bulunan idari şartnameden ulaşılabilir.\n\n\n\n3.3. Yapılacağı/teslim edileceği yer\n:\nİdaremizin PTT Evleri Mahallesi Yasemin Caddesi No:11 de bulunan Makine İkmal Bakım ve Onarım Müdürlüğü Atölyesi\n\n\n3.4. Süresi/teslim tarihi\n:\n1.Kısımda; 1. 2. 3. 4. 8. kalemlerdeki ürünler maksimum 185 kilogramlık varillerde\, 5. kalemdeki ürünler 4 veya 5 litrelik bidonlarda\, 6. 7. kalemlerdeki ürünler 15 veya 16 kilogramlık tenekelerde\, 9. 10. kalemlerdeki ürünler 500ml bidonlarda teslim edilecektir. 2.Kısımda; 1. 2. kalemlerdeki ürünler maksimum 185 kilogramlık varillerde\, 3. kalemdeki ürünler 15 veya 16 kilogramlık tenekelerde teslim edilecektir. Ürünler orijinal ambalaj içerisinde olacaktır. Yukarıda istenilen ambalaj şekli ile tamamlanamayan kısımları daha küçük paketler ile tamamlanabilecektir.\n\n\n3.5. İşe başlama tarihi\n:\nsözleşmenin imzalanmasından itibaren 10 (on) gün içinde işe başlanacak\n\n\n\n4- Katılım ve yeterlik kriterleri:\n4.1. Katılım ve yeterlik kriterlerine ilişkin istekliler tarafından e-teklif kapsamında sunulması gereken bilgi ve belgeler ile fiyat dışı unsurlara ilişkin bilgi ve belgelere aşağıda yer verilmiştir:\n4.1.1. Teklif mektubu.\n4.1.2. Teklif vermeye yetkili olunduğunu gösteren bilgi ve belgeler:\n4.1.2.1. Tüzel kişilerde; isteklilerin yönetimindeki görevliler ile ilgisine göre\, ortaklar ve ortaklık oranlarına (halka arz edilen hisseler hariç)/üyelerine/kurucularına ilişkin bilgi ve belgeler.\n4.1.2.2. Vekâleten ihaleye katılma halinde vekile ilişkin bilgi ve belgeler.\n4.1.3. Geçici teminat.\n4.1.4 İsteklinin iş ortaklığı olması halinde iş ortaklığı beyannamesi.\n4.1.5. Yerli malı teklif edenler lehine fiyat avantajından yararlanmak isteyen istekliler tarafından sunulacak yerli malı belgesi \n\n\n\n4.2. Ekonomik ve mali yeterliğe ilişkin bilgi ve belgeler ile bunların taşıması gereken kriterler:\n\n\nEkonomik ve mali yeterliğe ilişkin bilgi\, belge veya kriter belirtilmemiştir.\n\n\n\n  \n\n\n\n4.3. Mesleki ve teknik yeterliğe ilişkin bilgi ve belgeler ile bunların taşıması gereken kriterler:\n\n\nMesleki ve teknik yeterliğe ilişkin bilgi\, belge veya kriter belirtilmemiştir.\n\n\n4.3.1. Yetkili satıcılığı veya imalatçılığı gösteren belgelere ilişkin bilgiler:\n\n\na) İmalatçı ise imalatçı olduğunu gösteren belge veya belgelere ilişkin bilgiler\,\nb) Yetkili satıcı veya yetkili temsilci ise yetkili satıcı ya da yetkili temsilci olduğunu gösteren belge veya belgelere ilişkin bilgiler\,\nc) İstekli Türkiye’de serbest bölgelerde faaliyet gösteriyor ise yukarıdaki belgelerden biriyle birlikte sunduğu serbest bölge faaliyet belgesi.\nİsteklilerin yukarıda sayılan bilgilerden\, kendi durumuna uygun bilgi veya bilgileri belirten isteklilerin ihaleye katılım belgesi uygun kabul edilir.İsteklinin alım konusu malı teklif etmeye yetkisinin bulunup bulunmadığını gösteren belgeler şunlardır: \nİmalat Yeterlik Belgesi\nİmalatçı Belgesi\nKapasite Raporu\nSanayi Sicil Belgesi\nYetkili Satıcı Belgesi\nYetkili Temsilci Belgesi\n\n\n\n\n\n5- Ekonomik açıdan en avantajlı teklif sadece fiyat esasına göre belirlenecektir. \n6- İhaleye sadece yerli istekliler katılabilecektir. \n7- İhaleye teklif verecek olanların\, EKAP hesabına giriş yaparak ihale dokümanını indirmeleri zorunludur. \n8-Teklifler\, EKAP üzerinden teklif mektubu ile ihaleye katılım belgesi ve diğer ekler kullanılarak hazırlanacak ve e-imza ile imzalanarak ihale tarih ve saatine kadar EKAP üzerinden gönderilecektir. \n9- İstekliler tekliflerini\, her bir iş kaleminin miktarı ile bu iş kalemleri için teklif edilen birim fiyatların çarpımı sonucu bulunan toplam bedel üzerinden teklif birim fiyat şeklinde vereceklerdir. İhale sonucunda\, üzerine ihale yapılan istekliyle birim fiyat sözleşme imzalanacaktır. \n10- Bu ihalede\, kısmı teklif verilebilir. \n11- İstekliler teklif ettikleri bedelin %3’ünden az olmamak üzere kendi belirleyecekleri tutarda geçici teminat vereceklerdir. \n12- Bu ihalede elektronik eksiltme yapılmayacaktır. \n13- Verilen tekliflerin geçerlilik süresi\, ihale tarihinden itibaren 60 (Altmış) takvim günüdür. \n14- Konsorsiyum olarak ihaleye teklif verilemez. \n15- Diğer hususlar: \nTeklif fiyatı ihale komisyonu tarafından aşırı düşük olarak tespit edilen isteklilerden Kanunun 38 inci maddesine göre açıklama istenecektir.\n\nİhale dokümanını buradan indirebilirsiniz: ihale_dokumani_2025_2499115
URL:https://lubricant-world.com/etkinlik/2025-2499115-madeni-yag-ve-antifriz-alimi-isi/
LOCATION:Amsterdam
CATEGORIES:Madeni Yağ İhaleleri
END:VEVENT
BEGIN:VEVENT
DTSTART;TZID=Europe/Moscow:20260127T143000
DTEND;TZID=Europe/Moscow:20260127T143000
DTSTAMP:20260420T154905
CREATED:20260112T140921Z
LAST-MODIFIED:20260112T140921Z
UID:19973-1769524200-1769524200@lubricant-world.com
SUMMARY:2026/29433 Madeni Yağ ve Katkı Maddesi
DESCRIPTION:İlan Tarihi: 09.01.2026\nMADENİ YAĞ VE KATKI MADDESİ SATIN ALINACAKTIR \nMadeni Yağ ve Katkı Maddesi mal alımı 4734 sayılı Kamu İhale Kanununun 19 uncu maddesine göre açık ihale usulü ile ihale edilecektir.\nİhaleye ilişkin ayrıntılı bilgiler aşağıda yer almaktadır: \n\n\n\nİhale Kayıt Numarası (İKN)\n:\n2026/29433\n\n\n\n\n\n\n1- İdarenin\n\n\n1.1. Adı\n:\nDERİNCE BELEDİYESİ FEN İŞLERİ MÜDÜRLÜĞÜ\n\n\n1.2. Adresi\n:\nYenikent Mahallesi İsmetpaşa Caddesi No:68 41900 Derince/KOCAELİ\n\n\n1.3. Telefon numarası\n:\n2622337100\n\n\n1.4. İhale dokümanının görülebileceği ve indirilebileceği internet sayfası\n:\nhttps://ekap.kik.gov.tr/EKAP/\n\n\n\n2- İhalenin \n\n\n\n2.1. Tarih ve Saati\n:\n27.01.2026 – 14:30\n\n\n2.2. Yapılacağı (e-tekliflerin açılacağı) adres\n:\nÇenedağ Mh. Denizciler Cd. No:81 K:3 Derince Belediyesi Toplantı Salonu Derince/KOCAELİ\n\n\n\n3- İhale konusu mal alımının \n\n\n\n3.1. Adı\n:\nMadeni Yağ ve Katkı Maddesi\n\n\n3.2. Niteliği\, türü ve miktarı\n:\n\n24 kalem madeni yağ ve katkı maddesi alınacaktır.\nAyrıntılı bilgiye EKAP’ta yer alan ihale dokümanı içinde bulunan idari şartnameden ulaşılabilir.\n\n\n\n3.3. Yapılacağı/teslim edileceği yer\n:\nTüm malzemeler Yenikent Mah. İsmetpaşa Cad. No:68 Derince/KOCAELİ adresinde bulunan Derince Belediyesi Fen İşleri Müdürlüğü deposu veya Derince İlçesi sınırlarında idarenin belirteceği adrese teslim edilecektir.\n\n\n3.4. Süresi/teslim tarihi\n:\nYüklenici\, ihale konusu malları teknik şartnamede belirtildiği şekilde idarenin talebine göre işe başlama tarihinden itibaren 45 gün içinde idarece belirtilen adreslere eksiksiz olarak teslim edecektir.\n\n\n3.5. İşe başlama tarihi\n:\nSözleşmenin imzalanmasını müteakip 1 gün içinde işe başlanacaktır.\n\n\n\n4- Katılım ve yeterlik kriterleri:\n4.1. Katılım ve yeterlik kriterlerine ilişkin istekliler tarafından e-teklif kapsamında sunulması gereken bilgi ve belgeler ile fiyat dışı unsurlara ilişkin bilgi ve belgelere aşağıda yer verilmiştir:\n4.1.1. Teklif mektubu.\n4.1.2. Teklif vermeye yetkili olunduğunu gösteren bilgi ve belgeler:\n4.1.2.1. Tüzel kişilerde; isteklilerin yönetimindeki görevliler ile ilgisine göre\, ortaklar ve ortaklık oranlarına (halka arz edilen hisseler hariç)/üyelerine/kurucularına ilişkin bilgi ve belgeler.\n4.1.2.2. Vekâleten ihaleye katılma halinde vekile ilişkin bilgi ve belgeler.\n4.1.3. Geçici teminat.\n4.1.4 İsteklinin iş ortaklığı olması halinde iş ortaklığı beyannamesi.\n4.1.5. Yerli malı teklif edenler lehine fiyat avantajından yararlanmak isteyen istekliler tarafından sunulacak yerli malı belgesi \n\n\n\n4.2. Ekonomik ve mali yeterliğe ilişkin bilgi ve belgeler ile bunların taşıması gereken kriterler:\n\n\nEkonomik ve mali yeterliğe ilişkin bilgi\, belge veya kriter belirtilmemiştir.\n\n\n\n  \n\n\n\n4.3. Mesleki ve teknik yeterliğe ilişkin bilgi ve belgeler ile bunların taşıması gereken kriterler:\n\n\nMesleki ve teknik yeterliğe ilişkin bilgi\, belge veya kriter belirtilmemiştir.\n\n\n\n5- Ekonomik açıdan en avantajlı teklif sadece fiyat esasına göre belirlenecektir. \n6- İhaleye sadece yerli istekliler katılabilecektir. \n7- İhaleye teklif verecek olanların\, EKAP hesabına giriş yaparak ihale dokümanını indirmeleri zorunludur. \n8-Teklifler\, EKAP üzerinden teklif mektubu ile ihaleye katılım belgesi ve diğer ekler kullanılarak hazırlanacak ve e-imza ile imzalanarak ihale tarih ve saatine kadar EKAP üzerinden gönderilecektir. \n9- İstekliler tekliflerini\, her bir iş kaleminin miktarı ile bu iş kalemleri için teklif edilen birim fiyatların çarpımı sonucu bulunan toplam bedel üzerinden teklif birim fiyat şeklinde vereceklerdir. İhale sonucunda\, üzerine ihale yapılan istekliyle birim fiyat sözleşme imzalanacaktır. \n10- Bu ihalede\, işin tamamı için teklif verilecektir. \n11- İstekliler teklif ettikleri bedelin %3’ünden az olmamak üzere kendi belirleyecekleri tutarda geçici teminat vereceklerdir. \n12- Bu ihalede elektronik eksiltme yapılmayacaktır. \n13- Verilen tekliflerin geçerlilik süresi\, ihale tarihinden itibaren 60 (Altmış) takvim günüdür. \n14- Konsorsiyum olarak ihaleye teklif verilemez. \n15- Diğer hususlar: \nTeklif fiyatı ihale komisyonu tarafından aşırı düşük olarak tespit edilen isteklilerden Kanunun 38 inci maddesine göre açıklama istenecektir.\n\nİhale dokümanını buradan indirebilirsiniz: ihale_dokumani_2026_29433
URL:https://lubricant-world.com/etkinlik/2026-29433-madeni-yag-ve-katki-maddesi/
LOCATION:Amsterdam
CATEGORIES:Madeni Yağ İhaleleri
END:VEVENT
END:VCALENDAR