BEGIN:VCALENDAR
VERSION:2.0
PRODID:-//Madeni Yağ Dünyası | Lubricant World - ECPv6.15.16//NONSGML v1.0//EN
CALSCALE:GREGORIAN
METHOD:PUBLISH
X-ORIGINAL-URL:https://lubricant-world.com
X-WR-CALDESC:Madeni Yağ Dünyası | Lubricant World için etkinlikler
REFRESH-INTERVAL;VALUE=DURATION:PT1H
X-Robots-Tag:noindex
X-PUBLISHED-TTL:PT1H
BEGIN:VTIMEZONE
TZID:Europe/Moscow
BEGIN:STANDARD
TZOFFSETFROM:+0300
TZOFFSETTO:+0300
TZNAME:MSK
DTSTART:20250101T000000
END:STANDARD
END:VTIMEZONE
BEGIN:VEVENT
DTSTART;TZID=Europe/Moscow:20260226T100000
DTEND;TZID=Europe/Moscow:20260226T100000
DTSTAMP:20260420T142605
CREATED:20260209T113226Z
LAST-MODIFIED:20260209T113226Z
UID:20110-1772100000-1772100000@lubricant-world.com
SUMMARY:2026/146058 1 (Bir) Yıllık Madeni Yağ Alımı İşi
DESCRIPTION:İlan Tarihi: 05.02.2026\nMADENİ YAĞ SATIN ALINACAKTIR \n1 (Bir) Yıllık Madeni Yağ Alımı İşi mal alımı 4734 sayılı Kamu İhale Kanununun 19 uncu maddesine göre açık ihale usulü ile ihale edilecektir.\nİhaleye ilişkin ayrıntılı bilgiler aşağıda yer almaktadır: \n\n\n\nİhale Kayıt Numarası (İKN)\n:\n2026/146058\n\n\n\n\n\n\n1- İdarenin\n\n\n1.1. Adı\n:\nKIYI EMNİYETİ GENEL MÜDÜRLÜĞÜ – DESTEK HİZMETLERİ DAİRESİ BAŞKANLIĞI\n\n\n1.2. Adresi\n:\nBeylerbeyi Mah.\, Abdullahağa Cad. 16/A\, 34676 ÜSKÜDAR/İSTANBUL\n\n\n1.3. Telefon numarası\n:\n02165314000/5493\n\n\n1.4. İhale dokümanının görülebileceği ve indirilebileceği internet sayfası\n:\nhttps://ekap.kik.gov.tr/EKAP/\n\n\n\n2- İhalenin \n\n\n\n2.1. Tarih ve Saati\n:\n26.02.2026 – 11:00\n\n\n2.2. Yapılacağı (e-tekliflerin açılacağı) adres\n:\nKıyı Emniyeti Genel Müdürlüğü Beylerbeyi Mahallesi Abdullahağa Caddesi No:16/A Beylerbeyi/Üsküdar/İstanbul (2 Kat Toplantı Salonu)\n\n\n\n3- İhale konusu mal alımının \n\n\n\n3.1. Adı\n:\n1 (Bir) Yıllık Madeni Yağ Alımı İşi\n\n\n3.2. Niteliği\, türü ve miktarı\n:\n\nKuruluşumuza ait Deniz Vasıtaları için ihtiyaç duyulan değişik evsaftaki 58.500 Kg Madeni Yağ ve 700 Adet Madeni Yağ Analiz Testi Temini İşi\nAyrıntılı bilgiye EKAP’ta yer alan ihale dokümanı içinde bulunan idari şartnameden ulaşılabilir.\n\n\n\n3.3. Yapılacağı/teslim edileceği yer\n:\nİstanbul (Tuzla)\, Çanakkale (Akbaş)\, İzmir (Alsancak Limanı\, Pasaport )\, Trabzon (Beşikdüzü Limanı)\, Muğla ( Fethiye Limanı\, Bodrum Limanı) (Yüklenici 1000 Kg. altındaki İdarenin acil durumlardaki talepleri için belirtilen mahallere sözleşme süresince en fazla 2 (İki) kez nakliye hizmetini bila bedel karşılayacaktır. Yüklenici; yağ siparişlerini İdare’nin bildirimine/talebine müteakip\, İstanbul il sınırları içindeki mahallere 3 (üç) iş günü\, İstanbul il sınırları dışındaki mahallere 5 (beş) iş günü içerisinde teslim edecektir. Talep edilecek yağların teslim şekli; 42.000 kilogramı varil\, 16.500 kilogramı teneke/plastik bidon olacaktır (Yaklaşık değerlerdir. %10 değişiklik gösterebilir.).\n\n\n3.4. Süresi/teslim tarihi\n:\nYüklenici; yağ siparişlerini İdarenin bildirimine/talebine müteakip\, İstanbul il sınırları içindeki mahallere 3 (Üç) iş günü\, İstanbul il sınırları dışındaki mahallere 5 (Beş) iş günü içerisinde teslim edecektir.\n\n\n3.5. İşe başlama tarihi\n:\nSözleşme imzalanmasına müteakip 3 gün içinde konu işe başlanacaktır\n\n\n\n4- Katılım ve yeterlik kriterleri:\n4.1. Katılım ve yeterlik kriterlerine ilişkin istekliler tarafından e-teklif kapsamında sunulması gereken bilgi ve belgeler ile fiyat dışı unsurlara ilişkin bilgi ve belgelere aşağıda yer verilmiştir:\n4.1.1. Teklif mektubu.\n4.1.2. Teklif vermeye yetkili olunduğunu gösteren bilgi ve belgeler:\n4.1.2.1. Tüzel kişilerde; isteklilerin yönetimindeki görevliler ile ilgisine göre\, ortaklar ve ortaklık oranlarına (halka arz edilen hisseler hariç)/üyelerine/kurucularına ilişkin bilgi ve belgeler.\n4.1.2.2. Vekâleten ihaleye katılma halinde vekile ilişkin bilgi ve belgeler.\n4.1.3. Geçici teminat.\n4.1.4 İsteklinin iş ortaklığı olması halinde iş ortaklığı beyannamesi.\n4.1.5. Yerli malı teklif edenler lehine fiyat avantajından yararlanmak isteyen istekliler tarafından sunulacak yerli malı belgesi \n\n\n\n4.2. Ekonomik ve mali yeterliğe ilişkin bilgi ve belgeler ile bunların taşıması gereken kriterler:\n\n\nEkonomik ve mali yeterliğe ilişkin bilgi\, belge veya kriter belirtilmemiştir.\n\n\n\n  \n\n\n\n4.3. Mesleki ve teknik yeterliğe ilişkin bilgi ve belgeler ile bunların taşıması gereken kriterler:\n\n\n4.3.1. Son beş yıl içinde bedel içeren bir sözleşme kapsamında kesin kabul işlemleri tamamlanan ve teklif edilen bedelin % 30 oranından az olmamak üzere ihale konusu iş veya benzer işlere ilişkin iş deneyimini gösteren belgelere veya teknolojik ürün deneyim belgesine ait bilgiler.\n4.3.1.1. Tüzel kişi tarafından iş deneyimini göstermek üzere kullanılan belgenin\, tüzel kişiliğin yarısından fazla hissesine sahip ve 4734 sayılı Kanuna göre yapılacak ihalelere ilişkin sözleşmelerin yürütülmesi konusunda temsile ve yönetime yetkili olan ortağına ait olması halinde\, ticaret ve sanayi odası/ticaret odası bünyesinde bulunan ticaret sicili müdürlükleri veya yeminli mali müşavir ya da serbest muhasebeci mali müşavir tarafından ilk ilan tarihinden sonra düzenlenen ve düzenlendiği tarihten geriye doğru son bir yıldır kesintisiz olarak bu şartların korunduğunu gösteren\, e-forma uygun belgenin kullanılması zorunludur. \n4.3.1.2. 4734 sayılı Kanun kapsamındaki idarelere taahhüt edilenler dışında yurt dışında gerçekleştirilen işlerden elde edilen iş deneyiminin 13/1/2011 tarihli ve 6102 sayılı Türk Ticaret Kanununun 195 inci maddesinin ikinci fıkrası gereğince pay çoğunluğuna dayanarak kurulan şirketler topluluğu ilişkisi içinde kullanılması halinde bu hukuki ilişkiyi ve bu ilişkinin süresini tevsik eden belgelerin sunulması zorunludur.\n\n\n4.3.2 İhale konusu işin ya da malın satış faaliyetinin yerine getirilebilmesi için ilgili mevzuat gereğince sicil\, izin\, ruhsat\, faaliyet belgesi vb. belgeler:\n\n\n\nBayilik Belgesi/Distribütörlük Sözleşmesi\nİhrakiye Teslim Lisansı\nMadeni Yağ Üretim Lisansı\n\n\n\n\n4.3.3 Katalog ve/veya fotoğraf ile teknik şartnameye cevapları ve açıklamaları içeren dokümana ilişkin belgelere ait bilgiler:\n\n\n\nKatalog\nMalzeme Güvenlik Bilgi Formları\n\n\n\n\n\n  \n\n\n\n4.4. Bu ihalede benzer iş olarak kabul edilecek işler:\n\n\n4.4.1.Kamu veya Özel Sektöre temin edilen Madeni Yağ işi benzer iş olarak kabul edilecektir.\n\n\n\n5- Ekonomik açıdan en avantajlı teklif sadece fiyat esasına göre belirlenecektir. \n6- İhaleye sadece yerli istekliler katılabilecektir. \n7- İhaleye teklif verecek olanların\, EKAP hesabına giriş yaparak ihale dokümanını indirmeleri zorunludur. \n8-Teklifler\, EKAP üzerinden teklif mektubu ile ihaleye katılım belgesi ve diğer ekler kullanılarak hazırlanacak ve e-imza ile imzalanarak ihale tarih ve saatine kadar EKAP üzerinden gönderilecektir. \n9- İstekliler tekliflerini\, her bir iş kaleminin miktarı ile bu iş kalemleri için teklif edilen birim fiyatların çarpımı sonucu bulunan toplam bedel üzerinden teklif birim fiyat şeklinde vereceklerdir. İhale sonucunda\, üzerine ihale yapılan istekliyle birim fiyat sözleşme imzalanacaktır. \n10- Bu ihalede\, işin tamamı için teklif verilecektir. \n11- İstekliler teklif ettikleri bedelin %3’ünden az olmamak üzere kendi belirleyecekleri tutarda geçici teminat vereceklerdir. \n12- Bu ihalede elektronik eksiltme yapılacaktır. \n13- Verilen tekliflerin geçerlilik süresi\, ihale tarihinden itibaren 120 (YüzYirmi) takvim günüdür. \n14- Konsorsiyum olarak ihaleye teklif verilemez. \n15- Diğer hususlar: \nTeklif fiyatı ihale komisyonu tarafından aşırı düşük olarak tespit edilen isteklilerden Kanunun 38 inci maddesine göre açıklama istenecektir.\n\nİhale dokümanını buradan indirebilirsiniz: ihale_dokumani_2026_146058
URL:https://lubricant-world.com/etkinlik/2026-146058-1-bir-yillik-madeni-yag-alimi-isi/
LOCATION:Amsterdam
CATEGORIES:Madeni Yağ İhaleleri
END:VEVENT
END:VCALENDAR