BEGIN:VCALENDAR
VERSION:2.0
PRODID:-//Madeni Yağ Dünyası | Lubricant World - ECPv6.15.16//NONSGML v1.0//EN
CALSCALE:GREGORIAN
METHOD:PUBLISH
X-WR-CALNAME:Madeni Yağ Dünyası | Lubricant World
X-ORIGINAL-URL:https://lubricant-world.com
X-WR-CALDESC:Madeni Yağ Dünyası | Lubricant World için etkinlikler
REFRESH-INTERVAL;VALUE=DURATION:PT1H
X-Robots-Tag:noindex
X-PUBLISHED-TTL:PT1H
BEGIN:VTIMEZONE
TZID:Europe/Moscow
BEGIN:STANDARD
TZOFFSETFROM:+0300
TZOFFSETTO:+0300
TZNAME:MSK
DTSTART:20250101T000000
END:STANDARD
END:VTIMEZONE
BEGIN:VEVENT
DTSTART;TZID=Europe/Moscow:20260227T100000
DTEND;TZID=Europe/Moscow:20260227T100000
DTSTAMP:20260420T142454
CREATED:20260209T112953Z
LAST-MODIFIED:20260209T112953Z
UID:20107-1772186400-1772186400@lubricant-world.com
SUMMARY:2026/117888 ISO V46 TÜRBİN YAĞI
DESCRIPTION:İlan Tarihi: 06.02.2026\nTÜRBİN YAĞI SATIN ALINACAKTIR \nISO V46 TÜRBİN YAĞI mal alımı 4734 sayılı Kamu İhale Kanununun 19 uncu maddesine göre açık ihale usulü ile ihale edilecektir.\nİhaleye ilişkin ayrıntılı bilgiler aşağıda yer almaktadır: \n\n\n\nİhale Kayıt Numarası (İKN)\n:\n2026/117888\n\n\n\n\n\n\n1- İdarenin\n\n\n1.1. Adı\n:\nELEKTRİK ÜRETİM A.Ş GENEL MÜDÜRLÜĞÜ(EÜAŞ) OBRUK HES İŞLETME MÜDÜRLÜĞÜ\n\n\n1.2. Adresi\n:\nMehmet Dede Obruk Köyü Mehmet DODURGA/ÇORUM\n\n\n1.3. Telefon numarası\n:\n03647262070\n\n\n1.4. İhale dokümanının görülebileceği ve indirilebileceği internet sayfası\n:\nhttps://ekap.kik.gov.tr/EKAP/\n\n\n\n2- İhalenin \n\n\n\n2.1. Tarih ve Saati\n:\n27.02.2026 – 10:00\n\n\n2.2. Yapılacağı (e-tekliflerin açılacağı) adres\n:\nEÜAŞ Obruk HES İşletme Müdürlüğü Satın Alma ve İhale Komisyonu Toplantı Salonu\n\n\n\n3- İhale konusu mal alımının \n\n\n\n3.1. Adı\n:\nISO V46 TÜRBİN YAĞI\n\n\n3.2. Niteliği\, türü ve miktarı\n:\n\n60 adet 208 litrelik varil olmak üzere toplam 12480 litre\nAyrıntılı bilgiye EKAP’ta yer alan ihale dokümanı içinde bulunan idari şartnameden ulaşılabilir.\n\n\n\n3.3. Yapılacağı/teslim edileceği yer\n:\nObruk HES İşletme Müdürlüğü\n\n\n3.4. Süresi/teslim tarihi\n:\nTeslim süresi sözleşme imzalanmasına müteakip 30 (Otuz) takvim günüdür.\n\n\n3.5. İşe başlama tarihi\n:\nSözleşme imzalanmasına müteakip işe başlancaktır.\n\n\n\n4- Katılım ve yeterlik kriterleri:\n4.1. Katılım ve yeterlik kriterlerine ilişkin istekliler tarafından e-teklif kapsamında sunulması gereken bilgi ve belgeler ile fiyat dışı unsurlara ilişkin bilgi ve belgelere aşağıda yer verilmiştir:\n4.1.1. Teklif mektubu.\n4.1.2. Teklif vermeye yetkili olunduğunu gösteren bilgi ve belgeler:\n4.1.2.1. Tüzel kişilerde; isteklilerin yönetimindeki görevliler ile ilgisine göre\, ortaklar ve ortaklık oranlarına (halka arz edilen hisseler hariç)/üyelerine/kurucularına ilişkin bilgi ve belgeler.\n4.1.2.2. Vekâleten ihaleye katılma halinde vekile ilişkin bilgi ve belgeler.\n4.1.3. Geçici teminat.\n4.1.4 İsteklinin iş ortaklığı olması halinde iş ortaklığı beyannamesi.\n4.1.5. Yerli malı teklif edenler lehine fiyat avantajından yararlanmak isteyen istekliler tarafından sunulacak yerli malı belgesi \n\n\n\n4.2. Ekonomik ve mali yeterliğe ilişkin bilgi ve belgeler ile bunların taşıması gereken kriterler:\n\n\nEkonomik ve mali yeterliğe ilişkin bilgi\, belge veya kriter belirtilmemiştir.\n\n\n\n  \n\n\n\n4.3. Mesleki ve teknik yeterliğe ilişkin bilgi ve belgeler ile bunların taşıması gereken kriterler:\n\n\nMesleki ve teknik yeterliğe ilişkin bilgi\, belge veya kriter belirtilmemiştir.\n\n\n4.3.1. Yetkili satıcılığı veya imalatçılığı gösteren belgelere ilişkin bilgiler:\n\n\na) İmalatçı ise imalatçı olduğunu gösteren belge veya belgelere ilişkin bilgiler\,\nb) Yetkili satıcı veya yetkili temsilci ise yetkili satıcı ya da yetkili temsilci olduğunu gösteren belge veya belgelere ilişkin bilgiler\,\nc) İstekli Türkiye’de serbest bölgelerde faaliyet gösteriyor ise yukarıdaki belgelerden biriyle birlikte sunduğu serbest bölge faaliyet belgesi.\nİsteklilerin yukarıda sayılan bilgilerden\, kendi durumuna uygun bilgi veya bilgileri belirten isteklilerin ihaleye katılım belgesi uygun kabul edilir.İsteklinin alım konusu malı teklif etmeye yetkisinin bulunup bulunmadığını gösteren belgeler şunlardır: \nFirmalar; teklif edecekleri türbin yağının markasını\, ismini\, menşeini\, teknik özelliklerini ve karşıladığı standartları (DIN 51515 (R+O)veya BS 489 veya MIL-L-17672) belirten belgeleri ve Türkçe kataloglarını teklif ekinde sunacaklardır.\nİstekli adına düzenlenen Sanayi Sicil Belgesi\,\nİsteklinin adına veya ünvanına düzenlenmiş olan teklif ettiği mala ilişkin Yerli Malı Belgesi veya Teknolojik Ürün Deneyim Belgesi\,\nİsteklinin alım konusu malı ürettiğine ilişkin olarak ilgili mevzuat uyarınca yetkili kurum veya kuruluşlarca düzenlenen ve isteklinin üretici veya imalatçı olduğunu gösteren belgeler.\nİsteklinin kayıtlı olduğu meslek odası tarafından istekli adına düzenlenen İmalat Yeterlik Belgesi\,\nİsteklinin üyesi olduğu meslek odası tarafından istekli adına düzenlenen Kapasite Raporu\,\nİşletmemizde Petrol Ofisi Türbin Yağı 46 kullanıldığından; teklif edilecek yağın bu yağ ile karıştırılmasında herhangi bir sakınca olmadığı Yüklenici tarafından taahhüt edilecektir. Kaşeli\, imzalı taahhütname verilecektir.\n\n\n\n\n\n5- Ekonomik açıdan en avantajlı teklif sadece fiyat esasına göre belirlenecektir. \n6- İhaleye sadece yerli istekliler katılabilecek olup yerli malı teklif eden yerli istekliye ihalenin tamamında % 15 (yüzde on beş) oranında fiyat avantajı uygulanacaktır. \n7- İhaleye teklif verecek olanların\, EKAP hesabına giriş yaparak ihale dokümanını indirmeleri zorunludur. \n8-Teklifler\, EKAP üzerinden teklif mektubu ile ihaleye katılım belgesi ve diğer ekler kullanılarak hazırlanacak ve e-imza ile imzalanarak ihale tarih ve saatine kadar EKAP üzerinden gönderilecektir. \n9- İstekliler tekliflerini\, her bir iş kaleminin miktarı ile bu iş kalemleri için teklif edilen birim fiyatların çarpımı sonucu bulunan toplam bedel üzerinden teklif birim fiyat şeklinde vereceklerdir. İhale sonucunda\, üzerine ihale yapılan istekliyle birim fiyat sözleşme imzalanacaktır. \n10- Bu ihalede\, işin tamamı için teklif verilecektir. \n11- İstekliler teklif ettikleri bedelin %3’ünden az olmamak üzere kendi belirleyecekleri tutarda geçici teminat vereceklerdir. \n12- Bu ihalede elektronik eksiltme yapılacaktır. \n13- Verilen tekliflerin geçerlilik süresi\, ihale tarihinden itibaren 60 (Altmış) takvim günüdür. \n14- Konsorsiyum olarak ihaleye teklif verilemez. \n15- Diğer hususlar: \nTeklif fiyatı ihale komisyonu tarafından aşırı düşük olarak tespit edilen isteklilerden Kanunun 38 inci maddesine göre açıklama istenecektir.\n\nİhale dokümanını buradan indirebilirsiniz: ihale_dokumani_2026_117888
URL:https://lubricant-world.com/etkinlik/2026-117888-iso-v46-turbin-yagi/
LOCATION:Amsterdam
CATEGORIES:Madeni Yağ İhaleleri
END:VEVENT
BEGIN:VEVENT
DTSTART;TZID=Europe/Moscow:20260227T110000
DTEND;TZID=Europe/Moscow:20260227T110000
DTSTAMP:20260420T142454
CREATED:20260209T112657Z
LAST-MODIFIED:20260209T112744Z
UID:20103-1772190000-1772190000@lubricant-world.com
SUMMARY:2026/137603 AKARYAKIT VE MADENİ YAĞ
DESCRIPTION:İlan Tarihi: 28.01.2026\nAKARYAKIT VE MADENİ YAĞ SATIN ALINACAKTIRAKARYAKIT VE MADENİ YAĞ mal alımı 4734 sayılı Kamu İhale Kanununun 19 uncu maddesine göre açık ihale usulü ile ihale edilecektir.\nİhaleye ilişkin ayrıntılı bilgiler aşağıda yer almaktadır: \n\n\n\nİhale Kayıt Numarası (İKN)\n:\n2026/137603\n\n\n\n\n\n\n1- İdarenin\n\n\n1.1. Adı\n:\nVİRANŞEHİR BELEDİYESİ DESTEK HİZMETLERİ MÜDÜRLÜĞÜ\n\n\n1.2. Adresi\n:\nKIŞLA MAH. YENİ BELEDİYE CAD. VİRANŞEHİR/ŞANLIURFA\n\n\n1.3. Telefon numarası\n:\n04145113082\n\n\n1.4. İhale dokümanının görülebileceği ve indirilebileceği internet sayfası\n:\nhttps://ekap.kik.gov.tr/EKAP/\n\n\n\n2- İhalenin \n\n\n\n2.1. Tarih ve Saati\n:\n27.02.2026 – 11:00\n\n\n2.2. Yapılacağı (e-tekliflerin açılacağı) adres\n:\nDESTEK HİZMETLERİ MÜDÜRLÜĞÜ\n\n\n\n3- İhale konusu mal alımının \n\n\n\n3.1. Adı\n:\nAKARYAKIT VE MADENİ YAĞ\n\n\n3.2. Niteliği\, türü ve miktarı\n:\n\n1.150.000 LİTRE MOTORİN\, 30.000 LİTRE KURŞUNSUZ BENZİN (95 OKTAN)\, 25.000 LİTRE ADBLUE VE 8 KALEM MADENİ YAĞ ALIM İŞİ\nAyrıntılı bilgiye EKAP’ta yer alan ihale dokümanı içinde bulunan idari şartnameden ulaşılabilir.\n\n\n\n3.3. Yapılacağı/teslim edileceği yer\n:\nMADENİ YAĞLAR BELEDİYE DESTEK HİZMETLERİ MÜDÜRLÜĞÜNE BAĞLI ŞANTİYE BİNASINA TESLİM EDİLECEKTİR.AKARYAKIT İSE TAŞIMA SİSTEMİ İLE BAYİLERDEN İŞ MAKİNELERİNE YAKIT TAŞIMA TANKERİ İLE YAPILACAKTIR.\n\n\n3.4. Süresi/teslim tarihi\n:\nSÖZLEŞME İMZALANDIKTAN SONRA EN AZ 3 GÜN İÇİNDE İŞE BAŞLANILACAKTIR VE 31.12.2026 TARİHİNDE SONA ERECEKTİR.\n\n\n3.5. İşe başlama tarihi\n:\nSÖZLEŞME İMZALANDIĞI GİBİ İŞE BAŞLANILACAKTIR.\n\n\n\n4- Katılım ve yeterlik kriterleri:\n4.1. Katılım ve yeterlik kriterlerine ilişkin istekliler tarafından e-teklif kapsamında sunulması gereken bilgi ve belgeler ile fiyat dışı unsurlara ilişkin bilgi ve belgelere aşağıda yer verilmiştir:\n4.1.1. Teklif mektubu.\n4.1.2. Teklif vermeye yetkili olunduğunu gösteren bilgi ve belgeler:\n4.1.2.1. Tüzel kişilerde; isteklilerin yönetimindeki görevliler ile ilgisine göre\, ortaklar ve ortaklık oranlarına (halka arz edilen hisseler hariç)/üyelerine/kurucularına ilişkin bilgi ve belgeler.\n4.1.2.2. Vekâleten ihaleye katılma halinde vekile ilişkin bilgi ve belgeler.\n4.1.3. Geçici teminat.\n4.1.4 İsteklinin iş ortaklığı olması halinde iş ortaklığı beyannamesi.\n4.1.5. Yerli malı teklif edenler lehine fiyat avantajından yararlanmak isteyen istekliler tarafından sunulacak yerli malı belgesi \n\n\n\n4.2. Ekonomik ve mali yeterliğe ilişkin bilgi ve belgeler ile bunların taşıması gereken kriterler:\n\n\n4.2.1. İsteklinin ihalenin yapıldığı yıldan önceki yıla ait yıl sonu bilançosu veya eşdeğer belgeleri:\n\n\nSunulan bilanço veya eşdeğer belgelerde;\na) Cari oranın (dönen varlıklar/kısa vadeli borçlar) en az 0\,75 olduğunu\, b) Öz kaynak oranının (öz kaynaklar/toplam aktif) en az 0\,15 olduğunu\,\nc) Kısa vadeli banka borçlarının öz kaynaklara oranının 0\,50’den küçük olduğunu ve belirtilen üç kriterin birlikte sağlandığını göstermek üzere yıl sonu bilanço belgelerine ilişkin bilgileri belirtebilirler.\nYukarıda belirtilen kriterleri bir önceki yılda sağlayamayanlar\, son iki yıla ait belgelerine ilişkin bilgileri sunabilirler. Bu takdirde\, son iki yılın parasal tutarlarının ortalaması üzerinden yeterlik kriterlerinin sağlanıp sağlanmadığına bakılır.İhale tarihi yılın ilk dört ayında olduğundan\, bir önceki yıla ait yıl sonu bilançosunu veya bilançonun gerekli görülen bölümlerini ya da bunlara eşdeğer belgelerini sunmayanlar\, iki önceki yıla ait belgelerini sunabilirler. Bu belgelerde yeterlik kriterini sağlayamayanlar ise iki önceki yılın belgeleri ile üç önceki yılın belgelerini sunabilirler. Bu durumda\, belgeleri sunulan yılların parasal tutarlarının ortalaması üzerinden yeterlik kriterlerinin sağlanıp sağlanmadığına bakılır.\n\n\n\n  \n\n\n\n4.3. Mesleki ve teknik yeterliğe ilişkin bilgi ve belgeler ile bunların taşıması gereken kriterler:\n\n\n4.3.1 İhale konusu işin ya da malın satış faaliyetinin yerine getirilebilmesi için ilgili mevzuat gereğince sicil\, izin\, ruhsat\, faaliyet belgesi vb. belgeler:\n\n\n\nPetrol Bayiliği/Dağıtıcılığı Lisans Belgesi\n\n\n\n\n\n5- Ekonomik açıdan en avantajlı teklif sadece fiyat esasına göre belirlenecektir. \n6- İhale yerli ve yabancı tüm isteklilere açıktır. \n7- İhaleye teklif verecek olanların\, EKAP hesabına giriş yaparak ihale dokümanını indirmeleri zorunludur. \n8-Teklifler\, EKAP üzerinden teklif mektubu ile ihaleye katılım belgesi ve diğer ekler kullanılarak hazırlanacak ve e-imza ile imzalanarak ihale tarih ve saatine kadar EKAP üzerinden gönderilecektir. \n9- İstekliler tekliflerini\, her bir iş kaleminin miktarı ile bu iş kalemleri için teklif edilen birim fiyatların çarpımı sonucu bulunan toplam bedel üzerinden teklif birim fiyat şeklinde vereceklerdir. İhale sonucunda\, üzerine ihale yapılan istekliyle birim fiyat sözleşme imzalanacaktır. \n10- Bu ihalede\, kısmı teklif verilebilir. \n11- İstekliler teklif ettikleri bedelin %3’ünden az olmamak üzere kendi belirleyecekleri tutarda geçici teminat vereceklerdir. \n12- Bu ihalede elektronik eksiltme yapılmayacaktır. \n13- Verilen tekliflerin geçerlilik süresi\, ihale tarihinden itibaren 30 (Otuz) takvim günüdür. \n14- Konsorsiyum olarak ihaleye teklif verilemez. \n15- Diğer hususlar: \nTeklif fiyatı ihale komisyonu tarafından aşırı düşük olarak tespit edilen isteklilerden Kanunun 38 inci maddesine göre açıklama istenecektir.\n\nİhale dokümanını buradan indirebilirsiniz: ihale_dokumani_2026_137603
URL:https://lubricant-world.com/etkinlik/2026-137603-akaryakit-ve-madeni-yag-2/
LOCATION:Amsterdam
CATEGORIES:Madeni Yağ İhaleleri
END:VEVENT
END:VCALENDAR