BEGIN:VCALENDAR
VERSION:2.0
PRODID:-//Madeni Yağ Dünyası | Lubricant World - ECPv6.15.16//NONSGML v1.0//EN
CALSCALE:GREGORIAN
METHOD:PUBLISH
X-ORIGINAL-URL:https://lubricant-world.com
X-WR-CALDESC:Madeni Yağ Dünyası | Lubricant World için etkinlikler
REFRESH-INTERVAL;VALUE=DURATION:PT1H
X-Robots-Tag:noindex
X-PUBLISHED-TTL:PT1H
BEGIN:VTIMEZONE
TZID:Europe/Moscow
BEGIN:STANDARD
TZOFFSETFROM:+0300
TZOFFSETTO:+0300
TZNAME:MSK
DTSTART:20250101T000000
END:STANDARD
END:VTIMEZONE
BEGIN:VEVENT
DTSTART;TZID=Europe/Moscow:20260326T100000
DTEND;TZID=Europe/Moscow:20260326T100000
DTSTAMP:20260420T142626
CREATED:20260305T143040Z
LAST-MODIFIED:20260305T143040Z
UID:20346-1774519200-1774519200@lubricant-world.com
SUMMARY:2026/346712 Madeni Yağ Alımı
DESCRIPTION:İlan Tarihi: 03.03.2026\nMADENİ YAĞ SATIN ALINACAKTIR\nMadeni Yağ Alımı mal alımı 4734 sayılı Kamu İhale Kanununun 19 uncu maddesine göre açık ihale usulü ile ihale edilecektir.\nİhaleye ilişkin ayrıntılı bilgiler aşağıda yer almaktadır: \n\n\n\nİhale Kayıt Numarası (İKN)\n:\n2026/346712\n\n\n\n\n\n\n1- İdarenin\n\n\n1.1. Adı\n:\nSEFERİHİSAR BELEDİYESİ KOORDİNASYON İŞLERİ MÜDÜRLÜĞÜ\n\n\n1.2. Adresi\n:\nCamikebir Mahallesi 52/1 Sokak SEFERİHİSAR/İZMİR\n\n\n1.3. Telefon numarası\n:\n02327433960\n\n\n1.4. İhale dokümanının görülebileceği ve indirilebileceği internet sayfası\n:\nhttps://ekap.kik.gov.tr/EKAP/\n\n\n\n2- İhalenin \n\n\n\n2.1. Tarih ve Saati\n:\n26.03.2026 – 10:00\n\n\n2.2. Yapılacağı (e-tekliflerin açılacağı) adres\n:\nSeferihisar Belediyesi Ek Hizmet Binası\, Camikebir Mah. 52/1 Sokak No:1 Yeni Kültür Merkezi\n\n\n\n3- İhale konusu mal alımının \n\n\n\n3.1. Adı\n:\nMadeni Yağ Alımı\n\n\n3.2. Niteliği\, türü ve miktarı\n:\n\n21 Kalem Madeni Yağ\nAyrıntılı bilgiye EKAP’ta yer alan ihale dokümanı içinde bulunan idari şartnameden ulaşılabilir.\n\n\n\n3.3. Yapılacağı/teslim edileceği yer\n:\nSeferihisar Belediyesi Makine İkmal Amirliği\n\n\n3.4. Süresi/teslim tarihi\n:\nÜrünlerin tamamı 20 gün içinde teslim edilecektir. Muayene ve kabul esnasında yüklenici veya vekili hazır bulunacaktır. Muayene ve kabul için esas tespit gözle muayene yöntemiyle yapılacaktır. Bu muayenede yağların teknik şartnamede istenilen kriterleri karşılayıp karşılamadıkları ve ambalajların evsafına uygun olup olmadıkları yağ üzerindeki ürün tanıtıcı etiketten kontrol edilecektir. Muayene ve kabul komisyonu gerekli görürse malların tartımını yaptırabilir\, ayrıca istenilen üretici onaylarının (OEM) asıllarını veya noter tasdikli suretlerini yüklenici firmadan talep edebilir ve yağların istenilen özelliklerde olup olmadığına dair laboratuar tahlilleri isteyebilir. Bu işe ait tüm laboratuar ve numune gönderim masrafları yükleniciye ait olacaktır. İdare gerekli gördüğü takdirde yağların muayenesi ve kontrolünü Petrol ürünlerinin her türlü test analizlerini yapabilecek nitelik ve kapasitede TS EN/ISO/IEC 17025 standardına göre akredite edilmiş TÜRKAK onaylı laboratuvarda yaptırtacaktır. Test sonuçları sonunda\, teknik şartnameye uygun olmayan ürünler teslim alınmayacaktır. Bu testin bedeli yüklenici tarafından karşılanacaktır. İstekliler analizleri yaptırmayı taahhüt edeceklerdir.\n\n\n3.5. İşe başlama tarihi\n:\nSözleşme imzalanmasına müteakip (izleyen) 20 gün\n\n\n\n4- Katılım ve yeterlik kriterleri:\n4.1. Katılım ve yeterlik kriterlerine ilişkin istekliler tarafından e-teklif kapsamında sunulması gereken bilgi ve belgeler ile fiyat dışı unsurlara ilişkin bilgi ve belgelere aşağıda yer verilmiştir:\n4.1.1. Teklif mektubu.\n4.1.2. Teklif vermeye yetkili olunduğunu gösteren bilgi ve belgeler:\n4.1.2.1. Tüzel kişilerde; isteklilerin yönetimindeki görevliler ile ilgisine göre\, ortaklar ve ortaklık oranlarına (halka arz edilen hisseler hariç)/üyelerine/kurucularına ilişkin bilgi ve belgeler.\n4.1.2.2. Vekâleten ihaleye katılma halinde vekile ilişkin bilgi ve belgeler.\n4.1.3. Geçici teminat.\n4.1.4 İsteklinin iş ortaklığı olması halinde iş ortaklığı beyannamesi.\n4.1.5. Yerli malı teklif edenler lehine fiyat avantajından yararlanmak isteyen istekliler tarafından sunulacak yerli malı belgesi \n\n\n\n4.2. Ekonomik ve mali yeterliğe ilişkin bilgi ve belgeler ile bunların taşıması gereken kriterler:\n\n\nEkonomik ve mali yeterliğe ilişkin bilgi\, belge veya kriter belirtilmemiştir.\n\n\n\n  \n\n\n\n4.3. Mesleki ve teknik yeterliğe ilişkin bilgi ve belgeler ile bunların taşıması gereken kriterler:\n\n\nMesleki ve teknik yeterliğe ilişkin bilgi\, belge veya kriter belirtilmemiştir.\n\n\n\n5- Ekonomik açıdan en avantajlı teklif sadece fiyat esasına göre belirlenecektir. \n6- İhaleye sadece yerli istekliler katılabilecektir. \n7- İhaleye teklif verecek olanların\, EKAP hesabına giriş yaparak ihale dokümanını indirmeleri zorunludur. \n8-Teklifler\, EKAP üzerinden teklif mektubu ile ihaleye katılım belgesi ve diğer ekler kullanılarak hazırlanacak ve e-imza ile imzalanarak ihale tarih ve saatine kadar EKAP üzerinden gönderilecektir. \n9- İstekliler tekliflerini\, her bir iş kaleminin miktarı ile bu iş kalemleri için teklif edilen birim fiyatların çarpımı sonucu bulunan toplam bedel üzerinden teklif birim fiyat şeklinde vereceklerdir. İhale sonucunda\, üzerine ihale yapılan istekliyle birim fiyat sözleşme imzalanacaktır. \n10- Bu ihalede\, işin tamamı için teklif verilecektir. \n11- İstekliler teklif ettikleri bedelin %3’ünden az olmamak üzere kendi belirleyecekleri tutarda geçici teminat vereceklerdir. \n12- Bu ihalede elektronik eksiltme yapılmayacaktır. \n13- Verilen tekliflerin geçerlilik süresi\, ihale tarihinden itibaren 90 (Doksan) takvim günüdür. \n14- Konsorsiyum olarak ihaleye teklif verilemez. \n15- Diğer hususlar: \nTeklif fiyatı ihale komisyonu tarafından aşırı düşük olarak tespit edilen isteklilerden Kanunun 38 inci maddesine göre açıklama istenecektir.\n\nİhale dokümanını buradan indirebilirsiniz: ihale_dokumani_2026_346712
URL:https://lubricant-world.com/etkinlik/2026-346712-madeni-yag-alimi/
LOCATION:Amsterdam
CATEGORIES:Madeni Yağ İhaleleri
END:VEVENT
BEGIN:VEVENT
DTSTART;TZID=Europe/Moscow:20260326T140000
DTEND;TZID=Europe/Moscow:20260326T140000
DTSTAMP:20260420T142626
CREATED:20260317T065044Z
LAST-MODIFIED:20260317T065044Z
UID:20393-1774533600-1774533600@lubricant-world.com
SUMMARY:2026/444153 MADENİ YAĞ
DESCRIPTION:MADENİ YAĞ SATIN ALINACAKTIR\nMADENİ YAĞ mal alımı 4734 sayılı Kamu İhale Kanununun 19 uncu maddesine göre açık ihale usulü ile ihale edilecektir.\nİhaleye ilişkin ayrıntılı bilgiler aşağıda yer almaktadır: \n\n\n\nİhale Kayıt Numarası (İKN)\n:\n2026/444153\n\n\n\n\n\n\n1- İdarenin\n\n\n1.1. Adı\n:\nGÖLCÜK BELEDİYESİ/MAKİNE İKMAL BAKIM VE ONARIM MÜDÜRLÜĞÜ\n\n\n1.2. Adresi\n:\nMerkez Mahallesi Atatürk Bulvarı No:121 GÖLCÜK/KOCAELİ\n\n\n1.3. Telefon numarası\n:\n02624144585\n\n\n1.4. İhale dokümanının görülebileceği ve indirilebileceği internet sayfası\n:\nhttps://ekap.kik.gov.tr/EKAP/\n\n\n\n2- İhalenin \n\n\n\n2.1. Tarih ve Saati\n:\n26.03.2026 – 14:00\n\n\n2.2. Yapılacağı (e-tekliflerin açılacağı) adres\n:\nGölcük Belediye Başkanlığı/Merkez Mah. Atatürk Bulvarı No:121 Destek Hizmetleri Müdürlüğü Gölcük/KOCAELİ\n\n\n\n3- İhale konusu mal alımının \n\n\n\n3.1. Adı\n:\nMADENİ YAĞ\n\n\n3.2. Niteliği\, türü ve miktarı\n:\n\n15W/40 DİZEL MOTOR YAĞI: 1500 LT 80W/90 ŞANZIMAN YAĞI : 500 LT HD 46 HİDROLİK YAĞI :2000 LT 5W-30 DİZEL PARTİKÜLLÜ MOTOR YAĞI:800 LT 10W-40 TAM SENTETİK MOTOR YAĞI:300 LT 20W-50 DİZEL MOTOR YAĞI : 300 LT 5W-30 TAM SENTETİK DİZEL MOTOR YAĞI : 800 LT ATF 2 ŞANZIMAN YAĞI : 600 LT\nAyrıntılı bilgiye EKAP’ta yer alan ihale dokümanı içinde bulunan idari şartnameden ulaşılabilir.\n\n\n\n3.3. Yapılacağı/teslim edileceği yer\n:\nGölcük Belediyesi Makine Bakım İkmal Bakım ve Onarım Müdürlüğü Deposu\n\n\n3.4. Süresi/teslim tarihi\n:\nGölcük Belediyesi Makine Bakım İkmal Bakım ve Onarım Müdürlüğü Deposu’na sözleşmeye müteakip (izleyen) 15 gün içinde teslim edilecektir.\n\n\n3.5. İşe başlama tarihi\n:\nSözleşmeye müteakip (izleyen) gün\n\n\n\n4- Katılım ve yeterlik kriterleri:\n4.1. Katılım ve yeterlik kriterlerine ilişkin istekliler tarafından e-teklif kapsamında sunulması gereken bilgi ve belgeler ile fiyat dışı unsurlara ilişkin bilgi ve belgelere aşağıda yer verilmiştir:\n4.1.1. Teklif mektubu.\n4.1.2. Teklif vermeye yetkili olunduğunu gösteren bilgi ve belgeler:\n4.1.2.1. Tüzel kişilerde; isteklilerin yönetimindeki görevliler ile ilgisine göre\, ortaklar ve ortaklık oranlarına (halka arz edilen hisseler hariç)/üyelerine/kurucularına ilişkin bilgi ve belgeler.\n4.1.2.2. Vekâleten ihaleye katılma halinde vekile ilişkin bilgi ve belgeler.\n4.1.3. Geçici teminat.\n4.1.4 İsteklinin iş ortaklığı olması halinde iş ortaklığı beyannamesi.\n4.1.5. Yerli malı teklif edenler lehine fiyat avantajından yararlanmak isteyen istekliler tarafından sunulacak yerli malı belgesi \n\n\n\n4.2. Ekonomik ve mali yeterliğe ilişkin bilgi ve belgeler ile bunların taşıması gereken kriterler:\n\n\nEkonomik ve mali yeterliğe ilişkin bilgi\, belge veya kriter belirtilmemiştir.\n\n\n\n  \n\n\n\n4.3. Mesleki ve teknik yeterliğe ilişkin bilgi ve belgeler ile bunların taşıması gereken kriterler:\n\n\nMesleki ve teknik yeterliğe ilişkin bilgi\, belge veya kriter belirtilmemiştir.\n\n\n4.3.1. Yetkili satıcılığı veya imalatçılığı gösteren belgelere ilişkin bilgiler:\n\n\na) İmalatçı ise imalatçı olduğunu gösteren belge veya belgelere ilişkin bilgiler\,\nb) Yetkili satıcı veya yetkili temsilci ise yetkili satıcı ya da yetkili temsilci olduğunu gösteren belge veya belgelere ilişkin bilgiler\,\nc) İstekli Türkiye’de serbest bölgelerde faaliyet gösteriyor ise yukarıdaki belgelerden biriyle birlikte sunduğu serbest bölge faaliyet belgesi.\nİsteklilerin yukarıda sayılan bilgilerden\, kendi durumuna uygun bilgi veya bilgileri belirten isteklilerin ihaleye katılım belgesi uygun kabul edilir.İsteklinin alım konusu malı teklif etmeye yetkisinin bulunup bulunmadığını gösteren belgeler şunlardır: \nİmalat Yeterlik Belgesi\nSanayi Sicil Belgesi\nSerbest Bölge Faaliyet Belgesi\nYetkili Satıcı Belgesi\nYetkili Temsilci Belgesi\n\n\n\n\n\n5- Ekonomik açıdan en avantajlı teklif sadece fiyat esasına göre belirlenecektir. \n6- İhale yerli ve yabancı tüm isteklilere açık olup yerli malı teklif eden istekliye ihalenin tamamında % 15 (yüzde on beş) oranında fiyat avantajı uygulanacaktır. \n7- İhaleye teklif verecek olanların\, EKAP hesabına giriş yaparak ihale dokümanını indirmeleri zorunludur. \n8-Teklifler\, EKAP üzerinden teklif mektubu ile ihaleye katılım belgesi ve diğer ekler kullanılarak hazırlanacak ve e-imza ile imzalanarak ihale tarih ve saatine kadar EKAP üzerinden gönderilecektir. \n9- İstekliler tekliflerini\, her bir iş kaleminin miktarı ile bu iş kalemleri için teklif edilen birim fiyatların çarpımı sonucu bulunan toplam bedel üzerinden teklif birim fiyat şeklinde vereceklerdir. İhale sonucunda\, üzerine ihale yapılan istekliyle birim fiyat sözleşme imzalanacaktır. \n10- Bu ihalede\, işin tamamı için teklif verilecektir. \n11- İstekliler teklif ettikleri bedelin %3’ünden az olmamak üzere kendi belirleyecekleri tutarda geçici teminat vereceklerdir. \n12- Bu ihalede elektronik eksiltme yapılmayacaktır. \n13- Verilen tekliflerin geçerlilik süresi\, ihale tarihinden itibaren 30 (Otuz) takvim günüdür. \n14- Konsorsiyum olarak ihaleye teklif verilemez. \n15- Diğer hususlar: \nTeklif fiyatı ihale komisyonu tarafından aşırı düşük olarak tespit edilen isteklilerden Kanunun 38 inci maddesine göre açıklama istenecektir.\n\nİhale dokümanını buradan indirebilirsiniz: ihale_dokumani_2026_444153
URL:https://lubricant-world.com/etkinlik/2026-444153-madeni-yag/
LOCATION:Amsterdam
CATEGORIES:Madeni Yağ İhaleleri
END:VEVENT
END:VCALENDAR